BEGIN:VCALENDAR
VERSION:2.0
PRODID:-//Vortex Jazz Club - ECPv4.1.3//NONSGML v1.0//EN
CALSCALE:GREGORIAN
METHOD:PUBLISH
X-WR-CALNAME:Vortex Jazz Club
X-ORIGINAL-URL:https://www.vortexjazz.co.uk
X-WR-CALDESC:Events for Vortex Jazz Club
BEGIN:VEVENT
DTSTART;TZID=UTC+0:20170802T200000
DTEND;TZID=UTC+0:20170802T230000
DTSTAMP:20260422T042126
CREATED:20160708T163504
LAST-MODIFIED:20170707T140725
UID:11725-1501704000-1501714800@www.vortexjazz.co.uk
SUMMARY:GILAD ATZMON / SAUL RUBIN
DESCRIPTION:\n\nThe return of a New York special!\n\nA chance to hear saxophonist Gilad Atzmon with guitarist Saul Rubin\, frequently in the band of Sonny Rollins and visiting from New York. They are joined by Yaron Stavi on bass and Enzo Zirillli.\n\n\n\nGilad Atzmon\, is bringing with him a fabulous guitarist from New York who also works with the great Sonny Rollins -\n\n\n\n\n\n\n\n\n\n\n\n\n“Saul is a consummate musician\, a person who is aware of the feelings of others and a person who is gentle in that sense. He is everything I could ask for in a band mate.” Sonny Rollins\n"Saul has it all together and is a positive force in the world of the guitar. He plays hip melodies\, which he’s totally in touch with when improvising. His harmonies\, both with his impeccable comping and chord soloing\, employ refreshing voicings\, and certainly keep the listener involved." Gene Bertoncini\nA mainstay on the New York jazz scene\, Saul Rubin graduated from the Hartt School of Music\, where he majored in composition and studied jazz with the legendary saxophonist Jackie McLean and saxophonist/arranger Paul Jeffrey\, before moving back home to New York. Since then his soulful and virtuosic playing has been heard alongside some of the world's greatest jazz musicians\, including Sonny Rollins (touring Europe and the US)\, Roy Hargrove (he arranged for the Roy Hargrove Big Band album Emergence (Verve\, 2009)\, and has toured extensively with them throughout Europe\, Canada\, Japan and the US)\, Renee Fleming\, John Hicks\, Victor Lewis\, Bob Cranshaw\, Sammy Figueroa\, Johnny O'Neal\, Hank Jones\, Frank Wess\, Cameron Brown\, Candido\, Winard Harper\, Larry Willis\, Sue Terry\, Essiet Essiet\, Willie Jones III\, Eric Revis\, James Hurt\, Gerald Cannon\, Sherman Irby\, Lew Soloff\, Jonathan Batiste\, Roberta Gambarini\, and many more.\nIn 2009\, Saul opened Zeb’s in a New York loft in Chelsea\, a performance and production space where countless artists have since performed and recorded. In 2010 he began curating a successful weekly jazz vocal series (hosting and accompanying such luminaries as Gregory Porter\, Roseanna Vitro\, Nancy Harms\, Bob Dorough\, Johnny O’Neal\, Tessa Souter and Brianna Thomas). For three years he has produced the NYC Jazz Guitar Festival\, showcasing some of the world’s best jazz guitarists\, including Bucky Pizzarelli\, Gene Bertoncini\, Peter Bernstein and Paul Bollenback.\nHe has performed at the Blue Note (Tokyo and New York)\, the Jazz Standard\, Dizzy’s Club Coca Cola\, Fat Cat\, Smalls\, Mezzrow\, the Hollywood Bowl\, and concert halls all over the world\, including London\, Vienna\, Geneva\, Barcelona and Prague. As well as recording for other artists\, he has released two albums as a leader\, The Saul Rubin Quartet (2004)\, featuring John Hicks\, Gerald Cannon and Montez Coleman\, and Saul Rubin: The Zebtet (Red Records\, 2015)\, featuring Stacy Dillard\, JohnnyO'Neal and Fabio Morgera.\n\n\n\n\n
URL:https://www.vortexjazz.co.uk/event/gilad-atzmonsaul-rubin/
LOCATION:11 Gillett Square\, London\, N16 8AZ
GEO:51.5487082;-0.0764992
X-APPLE-STRUCTURED-LOCATION;VALUE=URI;X-ADDRESS=11 Gillett Square London N16 8AZ;X-APPLE-RADIUS=500;X-TITLE=11 Gillett Square:geo:-0.0764992,51.5487082
ATTACH;FMTTYPE=image/jpeg:https://www.vortexjazz.co.uk/wp-content/uploads/2016/07/gilad-rubin.jpg
END:VEVENT
END:VCALENDAR