BEGIN:VCALENDAR
VERSION:2.0
PRODID:-//Vortex Jazz Club - ECPv4.1.3//NONSGML v1.0//EN
CALSCALE:GREGORIAN
METHOD:PUBLISH
X-WR-CALNAME:Vortex Jazz Club
X-ORIGINAL-URL:https://www.vortexjazz.co.uk
X-WR-CALDESC:Events for Vortex Jazz Club
BEGIN:VEVENT
DTSTART;TZID=UTC+0:20170826T030000
DTEND;TZID=UTC+0:20170827T020000
DTSTAMP:20260422T042213
CREATED:20170808T124848
LAST-MODIFIED:20170808T124848
UID:13975-1503716400-1503799200@www.vortexjazz.co.uk
SUMMARY:A TRIBUTE TO RETRO DOM
DESCRIPTION:A day in tribute and happy memorial to Retro Dom. Starting in the afternoon in Gillett Square with a live show including Zoe and Zara\, and continuing inside Vortex Downstairs with DJs.\n\nMoney raised will go to Rising Tide Trust\, helping young people in Hackney who want to get involved with music.
URL:https://www.vortexjazz.co.uk/event/a-tribute-to-retro-dom/
LOCATION:11 Gillett Square\, London\, N16 8AZ
GEO:51.5487082;-0.0764992
X-APPLE-STRUCTURED-LOCATION;VALUE=URI;X-ADDRESS=11 Gillett Square London N16 8AZ;X-APPLE-RADIUS=500;X-TITLE=11 Gillett Square:geo:-0.0764992,51.5487082
ATTACH;FMTTYPE=image/jpeg:https://www.vortexjazz.co.uk/wp-content/uploads/2017/07/retro-dom.jpg
END:VEVENT
BEGIN:VEVENT
DTSTART;TZID=UTC+0:20170826T233000
DTEND;TZID=UTC+0:20170827T013000
DTSTAMP:20260422T042213
CREATED:20160414T202259
LAST-MODIFIED:20170830T162733
UID:13769-1503790200-1503797400@www.vortexjazz.co.uk
SUMMARY:JAZZ2ROCKSTEADY
DESCRIPTION:A Saturday late night hang featuring live soulful jazz\, reggae and rocksteady\, led by pianist Bruno Heinen. No booking required just turn up.\n\n \n\n[embed]https://vimeo.com/231596603[/embed]
URL:https://www.vortexjazz.co.uk/event/jazz2rocksteady-2/2017-08-26/
LOCATION:11 Gillett Square\, London\, N16 8AZ
GEO:51.5487082;-0.0764992
X-APPLE-STRUCTURED-LOCATION;VALUE=URI;X-ADDRESS=11 Gillett Square London N16 8AZ;X-APPLE-RADIUS=500;X-TITLE=11 Gillett Square:geo:-0.0764992,51.5487082
ATTACH;FMTTYPE=image/jpeg:https://www.vortexjazz.co.uk/wp-content/uploads/2016/04/rocksteady.jpeg
END:VEVENT
END:VCALENDAR