BEGIN:VCALENDAR
VERSION:2.0
PRODID:-//Vortex Jazz Club - ECPv4.1.3//NONSGML v1.0//EN
CALSCALE:GREGORIAN
METHOD:PUBLISH
X-WR-CALNAME:Vortex Jazz Club
X-ORIGINAL-URL:https://www.vortexjazz.co.uk
X-WR-CALDESC:Events for Vortex Jazz Club
BEGIN:VEVENT
DTSTART;TZID=UTC+0:20170902T140000
DTEND;TZID=UTC+0:20170902T170000
DTSTAMP:20260422T010756
CREATED:20170821T083952
LAST-MODIFIED:20170821T084048
UID:14071-1504360800-1504371600@www.vortexjazz.co.uk
SUMMARY:Mind Games presented by Arcola Theatre
DESCRIPTION:\n\n\n\nHow do you survive in the World? How do you survive in the Labyrinth?\n\nMind Games is a unique community\, performance-based installation investigating personal and social responses to Mental Health and Wellbeing. Across two performance and installation zones that will activate Gillett Square in Dalston\, join with a cast of over 20 performers for an experience unlike anything you have seen\, heard or felt before…\n\nPart One: The World / across the Square pop-up and walk-around performances and participatory activations will explore how to promote and maintain mental health and wellbeing in an increasingly disconnected world. Maybe it’s not about the length of time you have known someone\, but in that connection being seen\, heard and valued…\n\nPart Two: The Labyrinth /  in small groups you are invited to enter the Labyrinth. Follow your guide as they make the journey through the process of accessing help\, and aid them to navigate the prejudices and challenges of ‘getting better’. If the point of a maze is to find the centre\, the point of a labyrinth is to find your centre…\n(This experience is partly delivered via audio headsets which will be provided – a BSL interpreted tour slot is available. See below for full access guidance.)\n\nBoth performance spaces run from 2-5pm on Saturday 2nd September and 10-1pm AND 2-5pm on Sunday 3rd September 2017. \n\nAttendance is FREE but due to the nature of the Labyrinth\, spaces are limited and advance booking is recommended. \n\nRecommended for all ages\, however\, the Labyrinth installation is restricted to audiences 14+ only.\n\n \n\n\n\nAccess: There is step-free access to Gillett Square. No disabled toilet facilities are available on-site.\n\nUnfortunately\, due to the nature of the Labyrinth installation\, there is no wheelchair access to this element of the performance.\n\nA BSL interpreted tour of The Labyrinth installation will be held on Sunday 3rd September starting at 12noon. A BSL interpreter is also available before this tour to support members of the Deaf community to experience the wider activity in the square. Pre-booking for this tour is required\, please contact nick@arcolatheatre.com\n\nThe minimum age to experience the Labyrinth installation is 14+\, although younger children are welcome to experience the performances and activations in the wider square.\n\nCancellation/ Wet Weather: As this is an outdoor event\, we are weather dependent. We would only expect significant bad weather to hault the performances. Decisions to cancel or postpone the event will be made between Arcola and HCD on the day. In the event of a cancellation\, an announcement will be made on site\, and on Arcola Theatre website and social media.\n\n\n\n\n\n\n\n\nCast\n\n\n\nThe World\nOladele Oguntayo Oladeji\, Michelle Hanks\, Heather Qualtrough\, Sedef Hekimgil\, Nicole Hall\, Onyeka Michelle Akpata\, Nicola Clements\, Gaynor Smith\, Aniya Savage\n\n\nThe Labyrinth\nAlyx Stone\, Lolade Ajala\, Pete O'Shea\, Lesley Ambler\, Tasmine Airey\, Isabelle von Maltzan\, Vanessa Stevens\, Tasnim Siddiqa Amin\, Mark Thornhill\, Tina Mouzourides\, Lily Joseph\, Karen Dunne and Sasha Bond\n\n\n\n\n\n\n\nDirection\nNick Connaughton\n\n\nWriter - The Labyrinth\nEmma Dennis-Edwards\n\n\nDesigner\nAlex Berry\n\n\nSound Designer\nKirsty Gillmore\n\n\nChoreographer\nKirsty Davide\n\n\nAssistant Directors - The Labyrinth\nHannah Ali and Matthew Hobbs\n\n\nProduction and Technical Manager\nGeoff Hense\n\n\nTechnical Supervisor\nPenny Rischmiller\n\n\nTechnical Support\nPaul Kiddle\n\n\nSteering Group\nDr Peter MacRae\,Dr Thana Balamurali\, Dr Hannah Ali and Matthew Hobbs\n\n\n\n\n\n\n\n\n
URL:https://www.vortexjazz.co.uk/event/mind-games-presented-by-arcola-theatre/2017-09-02/
LOCATION:Gillett Square\, Lodon\, N16 8AZ\, United Kingdom
GEO:51.5487082;-0.0764992
X-APPLE-STRUCTURED-LOCATION;VALUE=URI;X-ADDRESS=Gillett Square Lodon N16 8AZ United Kingdom;X-APPLE-RADIUS=500;X-TITLE=Gillett Square:geo:-0.0764992,51.5487082
ATTACH;FMTTYPE=image/png:https://www.vortexjazz.co.uk/wp-content/uploads/2017/08/arcola.png
END:VEVENT
BEGIN:VEVENT
DTSTART;TZID=UTC+0:20170902T200000
DTEND;TZID=UTC+0:20170902T233000
DTSTAMP:20260422T010756
CREATED:20140403T161658
LAST-MODIFIED:20170901T082220
UID:1350-1504382400-1504395000@www.vortexjazz.co.uk
SUMMARY:Chris Laurence Quartet: Martin France / John Parricelli / Frank Ricotti
DESCRIPTION:The Vortex welcomes back this tremendously influential quartet\n\nChris Laurence\, double bass\nMartin France\, drums\nJohn Parricelli\, guitar\nFrank Ricotti\, vibraphone\n\nBassist Chris Laurence has been a fixture on the British scene for many years\, working regularly in the jazz sphere with artists including reedman John Surman\, trumpeter Kenny Wheeler and pianist John Taylor. He's recorded pop sessions with the likes of Elvis Costello\, Sting and David Gilmour\, and remains active in the classical community\, playing on orchestral film soundtracks including The Constant Gardener and The Man in the Iron Mask.\n\nFRANK RICOTTI was voted Melody Maker’s Top Vibraphone player back in his teens\, since when he has remained constantly in demand for his work on records\, film scores\, jingles and TV shows and is the first choice percussionist for many artists\, valued for his creative input. He has worked with many of this country’s favourite jazz musicians having performed at many clubs and festivals including the Montreux Jazz Festival\, and over the years has played alongside Stan Tracey\, John Taylor\, Mike Gibbs\, Kenny Wheeler\, Norma Winstone\, Gordon Beck\, John Surman and Stan Sulzmann.\n\nJOHN PARRICELLI began his professional guitar playing career in 1982\, and has since worked in various areas of music. He was one of the founder members of Loose Tubes in the 80's\, touring and recording three albums. Since then he has pursued a varied career\, working with Kenny Wheeler\, Andy Sheppard\, Iain Ballamy\, Norma Winstone\, Lee Konitz\, Paul Motian\, Julian Arguelles\, Tim Whitehead\, Eddie Parker\, WDR Band with Peter Erskine and Vince Mendoza\, Mark Lockheart\, Martin Speake\, Annie Whitehead and Gerard Presencer amongst others.\n\n“The resourceful John Parricelli has the right mix of lightness\, rhythm and lyricism"\nTHE TIMES\n\nMARTIN FRANCE has played with many of the world's finest musicians. He has performed in all five continents including concerts and tours in over forty countries worldwide. Martin began performing at the age of twelve backing singers in Working Men's clubs with Organ trios in and around Manchester\, and in 1983 he began his recording career performing on several records for ECM. A turning point in his early career was his role within the Eighties big band LOOSE TUBES where he began long standing partnerships with many of its members (such as Django Bates and Iain Ballamy) and beyond (such as Kenny Wheeler\, Dave Holland and Stan Sulzmann)\n\n
URL:https://www.vortexjazz.co.uk/event/chris-laurence-quartet-martin-france-john-parricelli-frank-ricotti-2/
LOCATION:11 Gillett Square\, London\, N16 8AZ
GEO:51.5487082;-0.0764992
X-APPLE-STRUCTURED-LOCATION;VALUE=URI;X-ADDRESS=11 Gillett Square London N16 8AZ;X-APPLE-RADIUS=500;X-TITLE=11 Gillett Square:geo:-0.0764992,51.5487082
ATTACH;FMTTYPE=image/jpeg:https://www.vortexjazz.co.uk/wp-content/uploads/2014/04/Chris-L-Qrt-Photo-on-Waterloo-Bridge-2.jpg
END:VEVENT
END:VCALENDAR