BEGIN:VCALENDAR
VERSION:2.0
PRODID:-//Vortex Jazz Club - ECPv4.1.3//NONSGML v1.0//EN
CALSCALE:GREGORIAN
METHOD:PUBLISH
X-WR-CALNAME:Vortex Jazz Club
X-ORIGINAL-URL:https://www.vortexjazz.co.uk
X-WR-CALDESC:Events for Vortex Jazz Club
BEGIN:VEVENT
DTSTART;TZID=UTC+0:20170905T200000
DTEND;TZID=UTC+0:20170905T230000
DTSTAMP:20260420T103105
CREATED:20170621T101938
LAST-MODIFIED:20170828T123621
UID:13872-1504641600-1504652400@www.vortexjazz.co.uk
SUMMARY:Andrea Rinciari Quartet
DESCRIPTION:Last time guitarist Andrea Rinciari came in\, the show was sold out. So it's great have him back do soon.\n\nJoe Dessauer (Drums)\nJj Stillwell (Bass)\nLiam Stevens (Piano)\nAndrea Rinciari (Guitar)\n\nLed by guitarist Andrea Rinciari\, this young quartet's music  is based around the American Jazz Tradition of the late 50s and 60s\, heavily influenced by some of Andrea's all time heroes such as Wes Montgomery\, Art Blakey and Bud Powell. Perfect fare for a restful summer night.\n\nhttps://www.youtube.com/watch?v=KCvD0s7HiS0
URL:https://www.vortexjazz.co.uk/event/andrea-rinciari-quartet/
LOCATION:11 Gillett Square\, London\, N16 8AZ
GEO:51.5487082;-0.0764992
X-APPLE-STRUCTURED-LOCATION;VALUE=URI;X-ADDRESS=11 Gillett Square London N16 8AZ;X-APPLE-RADIUS=500;X-TITLE=11 Gillett Square:geo:-0.0764992,51.5487082
ATTACH;FMTTYPE=image/jpeg:https://www.vortexjazz.co.uk/wp-content/uploads/2017/06/maxresdefault-1.jpg
END:VEVENT
END:VCALENDAR