BEGIN:VCALENDAR
VERSION:2.0
PRODID:-//Vortex Jazz Club - ECPv4.1.3//NONSGML v1.0//EN
CALSCALE:GREGORIAN
METHOD:PUBLISH
X-WR-CALNAME:Vortex Jazz Club
X-ORIGINAL-URL:https://www.vortexjazz.co.uk
X-WR-CALDESC:Events for Vortex Jazz Club
BEGIN:VEVENT
DTSTART;TZID=UTC+0:20170913T200000
DTEND;TZID=UTC+0:20170913T230000
DTSTAMP:20260422T085338
CREATED:20170811T203328
LAST-MODIFIED:20170823T134649
UID:13984-1505332800-1505343600@www.vortexjazz.co.uk
SUMMARY:Sam Braysher / Michael Kanan Duo
DESCRIPTION:To coincide with the release of their album\, Golden Earrings (Fresh Sound New Talent Records)\, young London alto saxophonist Sam Braysher (who has recently been heard playing with Jorge Rossy\, John Warren\, Barry Green\, London Jazz Orchestra) has invited celebrated jazz pianist Michael Kanan over to the UK from New York City. Kanan is a real master with an exquisite touch\, a world-class interpreter of standards who has collaborated extensively with jazz royalty including Jane Monheit\, Jimmy Scott\, Kurt Rosenwinkel and Peter Bernstein. Golden Earrings\, Braysher’s debut\, features takes on almost-forgotten treasures by Victor Young\, Duke Ellington and Tadd Dameron\, as well as one original composition. The disc also marks the first time that Fresh Sound New Talent\, the iconic Barcelona-based record label\, which launched the careers of Brad Mehldau\, Robert Glasper\, Ambrose Akinmusire and Kurt Rosenwinkel - has produced an album by a British bandleader. Expect a fresh and swinging approach to the timeless material of the Great American Songbook from these wonderfully melodic improvisers in an intimate and conversational setting.\n\n[embed]https://youtu.be/HLBSsnCuqqQ[/embed]\n\n“In the over crowded and competitive pit of new ‘young lions’\, Sam Braysher’s retro futuristic poise brings a sweet balm to sore ears…” - Alex Garnett\n\n“[e]mbellished lines full of trills and twirls… a young crowd came out to dig Braysher’s reworked classics” - Jazzwise\n\n \n\n“...Sterling solo work from pianist Michael Kanan...” - LA Times\n\n \n\nArtist websites:\n\nhttps://www.sambraysher.com\n\nhttps://www.michaelkanan.com
URL:https://www.vortexjazz.co.uk/event/sam-braysher-michael-kanan-duo/
LOCATION:11 Gillett Square\, London\, N16 8AZ
GEO:51.5487082;-0.0764992
X-APPLE-STRUCTURED-LOCATION;VALUE=URI;X-ADDRESS=11 Gillett Square London N16 8AZ;X-APPLE-RADIUS=500;X-TITLE=11 Gillett Square:geo:-0.0764992,51.5487082
ATTACH;FMTTYPE=image/jpeg:https://www.vortexjazz.co.uk/wp-content/uploads/2017/08/braysher-kanan.jpg
END:VEVENT
END:VCALENDAR