BEGIN:VCALENDAR
VERSION:2.0
PRODID:-//Vortex Jazz Club - ECPv4.1.3//NONSGML v1.0//EN
CALSCALE:GREGORIAN
METHOD:PUBLISH
X-WR-CALNAME:Vortex Jazz Club
X-ORIGINAL-URL:https://www.vortexjazz.co.uk
X-WR-CALDESC:Events for Vortex Jazz Club
BEGIN:VEVENT
DTSTART;TZID=UTC+0:20170920T200000
DTEND;TZID=UTC+0:20170920T230000
DTSTAMP:20260422T102604
CREATED:20170915T151557
LAST-MODIFIED:20170915T151557
UID:14191-1505937600-1505948400@www.vortexjazz.co.uk
SUMMARY:FMR Festival - Cancelled
DESCRIPTION:19-20 September. Postponed for now!
URL:https://www.vortexjazz.co.uk/event/fmr-festival-cancelled/2017-09-20/
LOCATION:11 Gillett Square\, London\, N16 8AZ
GEO:51.5487082;-0.0764992
X-APPLE-STRUCTURED-LOCATION;VALUE=URI;X-ADDRESS=11 Gillett Square London N16 8AZ;X-APPLE-RADIUS=500;X-TITLE=11 Gillett Square:geo:-0.0764992,51.5487082
END:VEVENT
END:VCALENDAR