BEGIN:VCALENDAR
VERSION:2.0
PRODID:-//Vortex Jazz Club - ECPv4.1.3//NONSGML v1.0//EN
CALSCALE:GREGORIAN
METHOD:PUBLISH
X-WR-CALNAME:Vortex Jazz Club
X-ORIGINAL-URL:https://www.vortexjazz.co.uk
X-WR-CALDESC:Events for Vortex Jazz Club
BEGIN:VEVENT
DTSTART;TZID=UTC+0:20171104T200000
DTEND;TZID=UTC+0:20171104T230000
DTSTAMP:20260424T112754
CREATED:20170909T143923
LAST-MODIFIED:20171009T135311
UID:14144-1509825600-1509836400@www.vortexjazz.co.uk
SUMMARY:Ingrid and Christine Jensen with Ben Monder - Infinitude
DESCRIPTION:With infinitude\, Ingrid and Christine Jensen have realized a long-held ambition – to write for and perform in the more intimate setting of a quintet\, combining their intuitive\, sibling trust with the creativity of renowned guitarist Ben Monder and the foundational artistry of bassist Fraser Hollins and drummer Jon Wikan.\n\nInfinitude – the concept of boundless possibility – is at the centre of the music of Ingrid and Christine Jensen. Over the past twenty years or so\, as trumpeter and saxophonist respectively\, the West Canadian sisters have each shaped prolific careers in contemporary jazz\, collaborating with influential names such as Clark Terry\, Maria Schneider and Terry Lynn Carrington\, working with large and small ensembles\, and responding to various commissions to compose for jazz orchestras around the globe.\n\nThe particular rapport within this grouping is expressed by Christine (composer of half of this album’s material)\, describing the environment as being less about soloing\, but with an emphasis on the question\, “How are we all going to dive into this pool and swim together.” The resulting immersion\, recorded in the studio across two days\, sounds both live and organic\, with Ingrid confirming her close relationship with her sister: “It doesn’t actually feel like we’re producing. We already have this flow which continues as we perform together – we can find space\, and craziness\, and find our way in and out of it\, as well.”\n\nhttps://youtu.be/68XDDZ9HOV4\n\n"It is the combined years of experience that render the communication amongst Infinitude's five players so fluid\, so seemingly effortless and yet so intrinsically deep".\n★★★★½ All About Jazz\n\n"This is an album of fine writing and sublime musicianship."\nBebop Spoken Here\n\n"The arrangements are filled with air and light\, allowing the listener to be completely enthralled with the gorgeous tone of both horns."\nThe Jazz Breakfast\n\n"(Infinitude) achieves a rare distinction of being able to simultaneously combine tranquillity with rhythmic vibrancy\, coalescing in a near hypnotic fusion of tone and colour. A rare delight."\n★★★★ All About Jazz \n\nA sweet video interview with Ingrid:\n\nhttps://www.youtube.com/watch?v=96ObrJ4WpUk\n\n \n\n 
URL:https://www.vortexjazz.co.uk/event/ingrid-and-christine-jensen-with-ben-monder-infinitude/
LOCATION:11 Gillett Square\, London\, N16 8AZ
GEO:51.5487082;-0.0764992
X-APPLE-STRUCTURED-LOCATION;VALUE=URI;X-ADDRESS=11 Gillett Square London N16 8AZ;X-APPLE-RADIUS=500;X-TITLE=11 Gillett Square:geo:-0.0764992,51.5487082
ATTACH;FMTTYPE=image/jpeg:https://www.vortexjazz.co.uk/wp-content/uploads/2017/09/infinitude.jpg
END:VEVENT
END:VCALENDAR