BEGIN:VCALENDAR
VERSION:2.0
PRODID:-//Vortex Jazz Club - ECPv4.1.3//NONSGML v1.0//EN
CALSCALE:GREGORIAN
METHOD:PUBLISH
X-WR-CALNAME:Vortex Jazz Club
X-ORIGINAL-URL:https://www.vortexjazz.co.uk
X-WR-CALDESC:Events for Vortex Jazz Club
BEGIN:VEVENT
DTSTART;TZID=UTC+0:20171116T180000
DTEND;TZID=UTC+0:20171116T200000
DTSTAMP:20260421T113909
CREATED:20171029T183604
LAST-MODIFIED:20171116T124349
UID:6123-1510855200-1510862400@www.vortexjazz.co.uk
SUMMARY:Illegal Crowns Workshop and Cassandra Gurling
DESCRIPTION:Both cancelled. Sorry.
URL:https://www.vortexjazz.co.uk/event/cassandra-gurling-2/
END:VEVENT
BEGIN:VEVENT
DTSTART;TZID=UTC+0:20171116T200000
DTEND;TZID=UTC+0:20171116T230000
DTSTAMP:20260421T113909
CREATED:20170816T100527
LAST-MODIFIED:20170830T205152
UID:14004-1510862400-1510873200@www.vortexjazz.co.uk
SUMMARY:Illegal Crowns (Mary Halvorson\, Taylor Ho Bynum\, Tomas Fujiwara\, Benoît Delbecq))+ Sam Leak Trio
DESCRIPTION:Illegal Crowns (Mary Halvorson\, Taylor Ho Bynum\, Tomas Fujiwara\, Benoît Delbecq) brings together three of the most stunning New Yorkers with a stunning French pianist who is always a pleasure to see and hear in London. This new quartet was formed in march 2013 in Paris.  A mixture of improv and compositions and sound threading highlighted by the strong personalities of the players and a solid sense of deep and abstract grooves.\n\nThe bill is completed by pianist Sam Leak's Trio. Sam Leak has been described by JazzFM's Helen Mayhew as 'one of the brightest young stars in the Jazz piano galaxy\, a heavenly improviser and a brilliant prospect for the future.'\n\n[embed]https://youtu.be/6pdD-1vmTyk[/embed]
URL:https://www.vortexjazz.co.uk/event/illegal-crowns-mary-halvorson-taylor-ho-bynum-tomas-fujiwara-benoit-delbecq-sam-leak-trio/
LOCATION:11 Gillett Square\, London\, N16 8AZ
GEO:51.5487082;-0.0764992
X-APPLE-STRUCTURED-LOCATION;VALUE=URI;X-ADDRESS=11 Gillett Square London N16 8AZ;X-APPLE-RADIUS=500;X-TITLE=11 Gillett Square:geo:-0.0764992,51.5487082
ATTACH;FMTTYPE=image/jpeg:https://www.vortexjazz.co.uk/wp-content/uploads/2017/05/BenoitDelbecq_photoRoderickPacke.jpeg
END:VEVENT
BEGIN:VEVENT
DTSTART;TZID=UTC+0:20171116T200000
DTEND;TZID=UTC+0:20171116T230000
DTSTAMP:20260421T113909
CREATED:20170816T130254
LAST-MODIFIED:20170817T075339
UID:14049-1510862400-1510873200@www.vortexjazz.co.uk
SUMMARY:Words and Jazz
DESCRIPTION:Hosted by Nicki Heinen\, this monthly session has become one of the important nights in the intimacy of Vortex’s Downstairs space where creativity in words and music overlap. We are delighted that she will be hosting a special night for the Vortex during the EFG London Jazz Festival
URL:https://www.vortexjazz.co.uk/event/words-and-jazz-8/
LOCATION:11 Gillett Square\, London\, N16 8AZ
GEO:51.5487082;-0.0764992
X-APPLE-STRUCTURED-LOCATION;VALUE=URI;X-ADDRESS=11 Gillett Square London N16 8AZ;X-APPLE-RADIUS=500;X-TITLE=11 Gillett Square:geo:-0.0764992,51.5487082
ATTACH;FMTTYPE=image/jpeg:https://www.vortexjazz.co.uk/wp-content/uploads/2016/06/Nicki-Heinen.jpg
END:VEVENT
END:VCALENDAR