BEGIN:VCALENDAR
VERSION:2.0
PRODID:-//Vortex Jazz Club - ECPv4.1.3//NONSGML v1.0//EN
CALSCALE:GREGORIAN
METHOD:PUBLISH
X-WR-CALNAME:Vortex Jazz Club
X-ORIGINAL-URL:https://www.vortexjazz.co.uk
X-WR-CALDESC:Events for Vortex Jazz Club
BEGIN:VEVENT
DTSTART;TZID=UTC+0:20171129T200000
DTEND;TZID=UTC+0:20171129T230000
DTSTAMP:20260421T113909
CREATED:20171031T224039
LAST-MODIFIED:20171106T164423
UID:14435-1511985600-1511996400@www.vortexjazz.co.uk
SUMMARY:Samuel Eagles
DESCRIPTION:\nSamuel Eagles brings together some of the most in demand musicians in the UK creating a cohesive and refreshing sound formed through long lasting friendships. The band was a major prizewinner at this year's Bucharest Jazz Festival.\n\n\n\nSamuel Eagles - Alto Saxophone\nDuncan Eagles - Tenor Saxophone\nRalph Wyld - Vibraphone\nSam Leak - Piano\nMax Luthert - Double Bass\nDave Hamblett - Drums\n\n\n"A work\, then\, that pulses with meaning\, taking the active listener deeper and higher..." ★★★★ Jane Cornwell - The London Evening Standard\n“Richly textured and contrapuntal arrangements enhanced by the imaginative choice of instrumentation.” ★★★★ All About Jazz\n“His assurance and inventiveness are impressive at any tempo…” John Fordham – The Guardian\nhttps://youtu.be/DGPKNZ-yUKk\n\n
URL:https://www.vortexjazz.co.uk/event/samuel-eagles/
LOCATION:11 Gillett Square\, London\, N16 8AZ
GEO:51.5487082;-0.0764992
X-APPLE-STRUCTURED-LOCATION;VALUE=URI;X-ADDRESS=11 Gillett Square London N16 8AZ;X-APPLE-RADIUS=500;X-TITLE=11 Gillett Square:geo:-0.0764992,51.5487082
ATTACH;FMTTYPE=image/jpeg:https://www.vortexjazz.co.uk/wp-content/uploads/2017/10/SAMUEL_EAGLES_SPIRIT_REAL_WORLD-122-Rob-Blackham.jpg
END:VEVENT
END:VCALENDAR