BEGIN:VCALENDAR
VERSION:2.0
PRODID:-//Vortex Jazz Club - ECPv4.1.3//NONSGML v1.0//EN
CALSCALE:GREGORIAN
METHOD:PUBLISH
X-WR-CALNAME:Vortex Jazz Club
X-ORIGINAL-URL:https://www.vortexjazz.co.uk
X-WR-CALDESC:Events for Vortex Jazz Club
BEGIN:VEVENT
DTSTART;TZID=UTC+0:20171214T200000
DTEND;TZID=UTC+0:20171214T230000
DTSTAMP:20260421T114027
CREATED:20171031T225427
LAST-MODIFIED:20171123T151812
UID:14437-1513281600-1513292400@www.vortexjazz.co.uk
SUMMARY:Blow The Fuse - Tomorrow The Moon
DESCRIPTION:Blow The Fuse continue their exciting Tomorrow The Moon series\, featuring exciting young female-led groups\nJ Frisco + Deirdre Cartwright\, Kathy Dyson’s Free Spirit\nAn evening in which both groups feature women exploring exciting live interplay\, melody\, fragments – oh and several guitars!\nJ Frisco are 2017 winners of ‘Jazz North Introduces‘ an award that gives assistance and festival exposure to emerging bands.The all-female trio J Frisco contains Jemma Freese on keys\, Lara Jones on saxophone\, and Megan Roe on guitar. Contrastingly\, they include poetry and art pieces in their music\, and this young band create an exciting experimental side live.\nPlus\nFree Spirit is the new duo featuring two of the UK’s top guitarists Deirdre Cartwright and Kathy Dyson. Known for their work in celebrating the music and memory of Emily Remembered\, this project celebrates the present. Two guitars with guitar effects\, loops and vocal\, and interaction with the audience to create melodic pieces and soundscapes.\n"Cartwright and Dyson exchange murmuring lines on Softly after a theme of gleaming harmonics\, and push each other more insistently in the later stages of a live All the Things You Are. Cartwright's lilting bossa Hello World and the earthy\, clanging blues catch the ear\, but it's the free-flowing\, improvised 8 on 12 and a brooding and then reharmonised Afro Blue that avoid the more routine aspects of traditional standard-song jazz jamming."\n                                                                                       John Fordham\, Guardian\n\n"Kathy Dyson and Deirdre Cartwright are both superb players albeit with contrasting styles that\, nevertheless\, complement each other perfectly”.\n\nLance Liddle\, Newcastle gig review
URL:https://www.vortexjazz.co.uk/event/blow-the-fuse-tomorrow-the-moon-2/
LOCATION:11 Gillett Square\, London\, N16 8AZ
GEO:51.5487082;-0.0764992
X-APPLE-STRUCTURED-LOCATION;VALUE=URI;X-ADDRESS=11 Gillett Square London N16 8AZ;X-APPLE-RADIUS=500;X-TITLE=11 Gillett Square:geo:-0.0764992,51.5487082
ATTACH;FMTTYPE=image/jpeg:https://www.vortexjazz.co.uk/wp-content/uploads/2016/09/ARQ_Alison-Rayner-Brian-Payne.jpg
END:VEVENT
END:VCALENDAR