BEGIN:VCALENDAR
VERSION:2.0
PRODID:-//Vortex Jazz Club - ECPv4.1.3//NONSGML v1.0//EN
CALSCALE:GREGORIAN
METHOD:PUBLISH
X-WR-CALNAME:Vortex Jazz Club
X-ORIGINAL-URL:https://www.vortexjazz.co.uk
X-WR-CALDESC:Events for Vortex Jazz Club
BEGIN:VEVENT
DTSTART;TZID=UTC+0:20171227T200000
DTEND;TZID=UTC+0:20171227T200000
DTSTAMP:20260421T114016
CREATED:20171227T160618
LAST-MODIFIED:20171227T161805
UID:14659-1514404800-1514404800@www.vortexjazz.co.uk
SUMMARY:Henry Lowther's Still Waters: Album launch
DESCRIPTION:Henry Lowther (trumpet/flugel); Pete Hurt (tenor); Barry Green (piano); Dave Green (bass); Paul Clarvis (drums).\n\n\n\nThe new album is called Can't Believe\, Won't Believe and is Henry Lowther’s Still Waters’ second album and well worth the wait. One review describes it as '...clean\, relaxed playing... a warm shower on a cool night\, or a Pina Colada with lots of ice on a warm summer’s evening. You let the music envelop you – it’s more intoxicating than any cocktail – and you remember just how good a trumpet player Henry Lowther was and still is.'\n\n'Still Waters was born out a long association and friendship\, going back forty years\, between Henry and bassist Dave Green. They both felt that the time had arrived to play the music of their choice\, together with some of the finest jazz musicians working in Britain today. As a result Still Waters is now one of the most accomplished\, tightly ensembled and creative bands around. Although a classic quintet of two front line and rhythm\, Still Waters plays radical and original music\, ranging from gentle\, quietly pastoral and melodic music\, reflecting the band’s name\, through to dynamic\, free improvisation' - Lance BeBop Spoken Here\n\n“Meltingly attractive solos\, startling originality.” Chris Parker\, Vortex review.\n\nIvan Hewitt's 4* review\n\n‘Can’t believe\, won’t believe’. A tricky concept to evoke in music\, you might think\, but Lowther’s subtle composition\, which kept reharmonizing the same phrase as if in search of certainty\, and the tone of exploratory\, gently seething gentleness from the band\, suspended in a harmonic and rhythmic no-mans-land\, somehow pulled it off. - Ivan Hewitt's 4* Review\n\n 
URL:https://www.vortexjazz.co.uk/event/henry-lowthers-still-waters-album-launch/
LOCATION:11 Gillett Square\, London\, N16 8AZ
GEO:51.5487082;-0.0764992
X-APPLE-STRUCTURED-LOCATION;VALUE=URI;X-ADDRESS=11 Gillett Square London N16 8AZ;X-APPLE-RADIUS=500;X-TITLE=11 Gillett Square:geo:-0.0764992,51.5487082
ATTACH;FMTTYPE=image/jpeg:https://www.vortexjazz.co.uk/wp-content/uploads/2017/12/henry-lowther-fb.jpg
END:VEVENT
END:VCALENDAR