BEGIN:VCALENDAR
VERSION:2.0
PRODID:-//Vortex Jazz Club - ECPv4.1.3//NONSGML v1.0//EN
CALSCALE:GREGORIAN
METHOD:PUBLISH
X-WR-CALNAME:Vortex Jazz Club
X-ORIGINAL-URL:https://www.vortexjazz.co.uk
X-WR-CALDESC:Events for Vortex Jazz Club
BEGIN:VEVENT
DTSTART;TZID=UTC+0:20180511T200000
DTEND;TZID=UTC+0:20180511T230000
DTSTAMP:20260424T033939
CREATED:20180219T195635
LAST-MODIFIED:20180407T101233
UID:14891-1526068800-1526079600@www.vortexjazz.co.uk
SUMMARY:Estelle Kokot Presents The Longest War
DESCRIPTION:Estelle Kokot - Piano and Vocals\n\nMick Hutton - Double Bass\n\nGene Calderazzo - Drums\n\nKate Shortt - Cello (special guest)\n\n\nYou will be hearing stories about Afghanistan's poppy trade\n\n\nTHE LONGEST WAR (under the bridge). Mongolian warlords and the deaths of millions possibly causing global cooling back in the 1300's\n\n\nKUBLAI KHAN. A little tale about an online Lothario pretending to be single while living in the Algarve\n\n\nFADO NEAR FARO. Pots\, kettles and sheep (why call them black?)\, sticks and stones\, smoke in the mirror and ash on the ground\n\n\nMOFO aka Meal Online For One. A cheerful blow by blow account of Edmund Kemper's not so nice handy work...\n\n\nSERIAL KILLER. A true story about a builder turned painter\n\n\nDEAR ARTIST. Another true story about an '(in?) famous' jazz musician who doesn't think he's sexually abusive\n\n\nHASH TAG GED (no means no)\n\n\n“Thoughtful phrasing and perfect diction as well as a melodious voice. On all counts Kokot delivers.”- Gwen Ansell Business Day South Africa\n\n“If you want to hear a genuine innovator with a creative twist on Jazz vocals include Estelle Kokot” - London Jazz Festival\n\n"Standards and originals perfectly compatible side by side\, Kokot is an excellent arranger of her own and other peoples’ material" - John Fordham\, The Guardian\n\n[embed]https://youtu.be/rzD6NVi80dY[/embed]
URL:https://www.vortexjazz.co.uk/event/estelle-kokot-presents-the-longest-war/
LOCATION:11 Gillett Square\, London\, N16 8AZ
GEO:51.5487082;-0.0764992
X-APPLE-STRUCTURED-LOCATION;VALUE=URI;X-ADDRESS=11 Gillett Square London N16 8AZ;X-APPLE-RADIUS=500;X-TITLE=11 Gillett Square:geo:-0.0764992,51.5487082
ATTACH;FMTTYPE=image/jpeg:https://www.vortexjazz.co.uk/wp-content/uploads/2018/02/Estelle-Kokot-2.jpg
END:VEVENT
END:VCALENDAR