BEGIN:VCALENDAR
VERSION:2.0
PRODID:-//Vortex Jazz Club - ECPv4.1.3//NONSGML v1.0//EN
CALSCALE:GREGORIAN
METHOD:PUBLISH
X-WR-CALNAME:Vortex Jazz Club
X-ORIGINAL-URL:https://www.vortexjazz.co.uk
X-WR-CALDESC:Events for Vortex Jazz Club
BEGIN:VEVENT
DTSTART;TZID=UTC+0:20180521T200000
DTEND;TZID=UTC+0:20180521T230000
DTSTAMP:20260424T034051
CREATED:20180420T133936
LAST-MODIFIED:20180424T140500
UID:15229-1526932800-1526943600@www.vortexjazz.co.uk
SUMMARY:Calum Gourlay's Big Band
DESCRIPTION:Bassist Calum Gourlay’s big band is a band of energy and joy\, having developed over the course of over a year at the Vortex. He brings stunning arrangements and a stellar band from a pool including the likes of James Allsopp\, Sean Gibbs\, Mike Chillingworth\, Rick Simpson\, James Maddren and many more.
URL:https://www.vortexjazz.co.uk/event/calum-gourlays-big-band-2/
LOCATION:11 Gillett Square\, London\, N16 8AZ
GEO:51.5487082;-0.0764992
X-APPLE-STRUCTURED-LOCATION;VALUE=URI;X-ADDRESS=11 Gillett Square London N16 8AZ;X-APPLE-RADIUS=500;X-TITLE=11 Gillett Square:geo:-0.0764992,51.5487082
ATTACH;FMTTYPE=image/jpeg:https://www.vortexjazz.co.uk/wp-content/uploads/2017/02/profiles_CalumGourley.jpg
END:VEVENT
END:VCALENDAR