BEGIN:VCALENDAR
VERSION:2.0
PRODID:-//Vortex Jazz Club - ECPv4.1.3//NONSGML v1.0//EN
CALSCALE:GREGORIAN
METHOD:PUBLISH
X-WR-CALNAME:Vortex Jazz Club
X-ORIGINAL-URL:https://www.vortexjazz.co.uk
X-WR-CALDESC:Events for Vortex Jazz Club
BEGIN:VEVENT
DTSTART;TZID=UTC+0:20180522T200000
DTEND;TZID=UTC+0:20180522T230000
DTSTAMP:20260424T022224
CREATED:20180511T174521
LAST-MODIFIED:20180518T121338
UID:15304-1527019200-1527030000@www.vortexjazz.co.uk
SUMMARY:Alexandra Ridout Quintet
DESCRIPTION:Alexandra Ridout - trumpet\nMiles Mindlin - guitar\nMatthew Carter - piano\nFreddie Jensen - bass\nLuca Caruso - drums\n“Trumpeter Alexandra Ridout was an outstanding winner of the BBC young musician jazz award of 2016 and just keeps on growing as an artist.” - Jazzwise ” We were enchanted by Alexandra’s presence as a musician\, her sound\, but I think most importantly there was a relationship with the blues and swinging that sounds important in her playing” – Julian Joseph\, Chair of the jury of the BBC Young Musician Jazz Award 2016. “Her incredibly sweet\, subtle and well-controlled tone….absolutely owning the stage and the room…\n\n[embed]https://youtu.be/pIkRoJuIEXE[/embed]\n\n \n\n 
URL:https://www.vortexjazz.co.uk/event/alexandra-ridout-quintet/
LOCATION:11 Gillett Square\, London\, N16 8AZ
GEO:51.5487082;-0.0764992
X-APPLE-STRUCTURED-LOCATION;VALUE=URI;X-ADDRESS=11 Gillett Square London N16 8AZ;X-APPLE-RADIUS=500;X-TITLE=11 Gillett Square:geo:-0.0764992,51.5487082
ATTACH;FMTTYPE=image/jpeg:https://www.vortexjazz.co.uk/wp-content/uploads/2018/05/34211666982_fb22b050e4_k-2-Alexandra-Ridout.jpg
END:VEVENT
END:VCALENDAR