BEGIN:VCALENDAR
VERSION:2.0
PRODID:-//Vortex Jazz Club - ECPv4.1.3//NONSGML v1.0//EN
CALSCALE:GREGORIAN
METHOD:PUBLISH
X-WR-CALNAME:Vortex Jazz Club
X-ORIGINAL-URL:https://www.vortexjazz.co.uk
X-WR-CALDESC:Events for Vortex Jazz Club
BEGIN:VEVENT
DTSTART;TZID=UTC+0:20180525T200000
DTEND;TZID=UTC+0:20180525T230000
DTSTAMP:20260424T141637
CREATED:20180514T165506
LAST-MODIFIED:20180518T104807
UID:15314-1527278400-1527289200@www.vortexjazz.co.uk
SUMMARY:Hannes Riepler / Michael Blake Quartet feat. Conor Chaplin & James Maddren
DESCRIPTION:Michael Blake - sax\nHannes Riepler - guitar\nConor Chaplin - bass\nJames Maddren - drums\n \n\nNew York Tenor Saxophone Wizard Michael Blake teams up with London Jazz Guitarist Hannes Riepler and band for an evening of exciting tunes.\n\nAn enduring presence for the last 30 years\, saxophonist\, composer and bandleader Michael Blake has built his reputation playing jazz and creative music in New York City. This visionary composer and arranger has produced a cornucopia of recordings that vary in context and mood. He has played tenor and soprano saxophone with a diverse range of artists including The Lounge Lizards\, Charlie Hunter\, Henry Butler/Steven Bernstein & the Hot 9 and Ray Lamontagne Hannes Riepler grew up in Austria\, studied jazz guitar in Amsterdam and moved to London in 2006\, where he dived into the vibrant scene and played all over the city alongside fellow jazzers young and old. An energetic and inventive guitar player\, spirited composer and host of the renowned Vortex Downstairs Jazz Night jam session over 5 years\, he has become a mover and shaker of jazz in London himself. Riepler’s music is rooted in jazz tradition\, contemporary and melodic\, but always immediate and hot. Freewheeling at times\, it thrillingly swings in New York Downtown style\, which is perfectly matched by the fine musicians in his Quartet.\n\nConor Chaplin: ..clearly a highly versatile young musician..." - Ian Mann\, thejazzmann.com "..harmonically intriguing.." - AllAboutJazz\n\n​"He has a wonderful capacity to communicate the joy of having just landed on a new idea\, a texture\, line\, a rhythmic kick\, to produce endlessly the sound of surprise." - LondonJazzNews\n\nJames Maddren is a highly gifted drummer who has\, in recent years\, become the ‘first call’ drummer of choice for both the younger and more established generation of jazz musicians in the UK. Hannes and James have recorded and toured together and can be geared on the album “Wild Life” feat NYC saxophone star Chris Cheek.\n\n“London continues to be a magnet for foreign jazz musicians\, and one of the best is Austrian guitarist Hannes Riepler” -The Daily Telegraph\n\n"If music is indeed the food of love\, I'll dine out on this for a long time!" Lance\, Bebop Spoken Here ​\n\n"As a writer\, Riepler has a penchant for grooving\, catchy\, but heartfelt\, tunes\, as can be heard on his recent album Wild Life." Graham Boyd\, Jazzwise\n\n[embed]https://youtu.be/6ZnPOUiE6WY[/embed]\n\n \n\n 
URL:https://www.vortexjazz.co.uk/event/hannes-riepler-michael-blake-quartet-feat-conor-chaplin-james-maddren/
LOCATION:11 Gillett Square\, London\, N16 8AZ
GEO:51.5487082;-0.0764992
X-APPLE-STRUCTURED-LOCATION;VALUE=URI;X-ADDRESS=11 Gillett Square London N16 8AZ;X-APPLE-RADIUS=500;X-TITLE=11 Gillett Square:geo:-0.0764992,51.5487082
ATTACH;FMTTYPE=image/jpeg:https://www.vortexjazz.co.uk/wp-content/uploads/2018/05/HannesCollage_Fotor_Fotor.jpg
END:VEVENT
END:VCALENDAR