BEGIN:VCALENDAR
VERSION:2.0
PRODID:-//Vortex Jazz Club - ECPv4.1.3//NONSGML v1.0//EN
CALSCALE:GREGORIAN
METHOD:PUBLISH
X-WR-CALNAME:Vortex Jazz Club
X-ORIGINAL-URL:https://www.vortexjazz.co.uk
X-WR-CALDESC:Events for Vortex Jazz Club
BEGIN:VEVENT
DTSTART;TZID=UTC+0:20180531T200000
DTEND;TZID=UTC+0:20180531T230000
DTSTAMP:20260424T010007
CREATED:20180214T142153
LAST-MODIFIED:20180219T180004
UID:14887-1527796800-1527807600@www.vortexjazz.co.uk
SUMMARY:Liran Donin's 1000 Boats Album Launch
DESCRIPTION:Celebrating his much anticipated debut album launch of acclaimed Israeli bass player\, composer and producer Liran Donin (LedBib\, Polar Bear\, Mulatu Astatke\, The Unthanks\, Chrissie Hynde and many more). Donin brings the bass to the forefront and directs the music from there\, with his distinctive powerhouse grooving\,  but also there is melodic and contemporary indie folk like music to be found here\, casting these five musicians in an highly original intriguing new light. Together they are striking a perfect balance between composition and improvisation and present this highly energetic and unique jazz outfit whilst drawing on influences from Donins' musical background and inspirations\, from across Sub- Saharan Africa\, Jewish Ladino and travel back all the way to simple folk songs and raw Americana. Backed by London’s most exciting new voices This London debut promises to be an event not to be missed.\n\nLiran Donin - double bass and vocals\n\nChris Williams - alto sax\n\nJosh Arcoleo - tenor sax\n\nMaria Chiara Argirò - piano\n\nBen Brown - drums\n\n“..Virtuosic bass guitarist ..” John Fordham The Guardian “..Compellingly hypnotic double bass ..”  Sean Kitchin The Quietus\n\nhttps://www.lirandonin.com 
URL:https://www.vortexjazz.co.uk/event/liran-donins-1000-boats-album-launch/
LOCATION:11 Gillett Square\, London\, N16 8AZ
GEO:51.5487082;-0.0764992
X-APPLE-STRUCTURED-LOCATION;VALUE=URI;X-ADDRESS=11 Gillett Square London N16 8AZ;X-APPLE-RADIUS=500;X-TITLE=11 Gillett Square:geo:-0.0764992,51.5487082
ATTACH;FMTTYPE=image/jpeg:https://www.vortexjazz.co.uk/wp-content/uploads/2018/02/Liran-Donin-BW-by-Alex-Muller.jpeg
END:VEVENT
END:VCALENDAR