BEGIN:VCALENDAR
VERSION:2.0
PRODID:-//Vortex Jazz Club - ECPv4.1.3//NONSGML v1.0//EN
CALSCALE:GREGORIAN
METHOD:PUBLISH
X-WR-CALNAME:Vortex Jazz Club
X-ORIGINAL-URL:https://www.vortexjazz.co.uk
X-WR-CALDESC:Events for Vortex Jazz Club
BEGIN:VEVENT
DTSTART;TZID=UTC+0:20180603T150000
DTEND;TZID=UTC+0:20180603T150000
DTSTAMP:20260424T005906
CREATED:20180504T105109
LAST-MODIFIED:20231110T092651
UID:15283-1528038000-1528038000@www.vortexjazz.co.uk
SUMMARY:Royal Academy of Music Final Recitals
DESCRIPTION:A chance to hear the stars of tomorrow\, as they undertake their final recital.\n\nSchedule\n15:35 – Thomas Smith (Sax)\n16:40 – Robin Porter (Sax)\n17:45 – Daniel Smith (Sax)\n18:50 – Christopher Williams (Sax)\n19:55 – Quinn Oulton (Sax)\n21:10 – Alistair Martin (Trumpet)\n22:15 – Thomas Gardner (Trumpet
URL:https://www.vortexjazz.co.uk/event/royal-academy-of-music-final-recitals-2/
LOCATION:11 Gillett Square\, London\, N16 8AZ
GEO:51.5487082;-0.0764992
X-APPLE-STRUCTURED-LOCATION;VALUE=URI;X-ADDRESS=11 Gillett Square London N16 8AZ;X-APPLE-RADIUS=500;X-TITLE=11 Gillett Square:geo:-0.0764992,51.5487082
END:VEVENT
END:VCALENDAR