BEGIN:VCALENDAR
VERSION:2.0
PRODID:-//Vortex Jazz Club - ECPv4.1.3//NONSGML v1.0//EN
CALSCALE:GREGORIAN
METHOD:PUBLISH
X-WR-CALNAME:Vortex Jazz Club
X-ORIGINAL-URL:https://www.vortexjazz.co.uk
X-WR-CALDESC:Events for Vortex Jazz Club
BEGIN:VEVENT
DTSTART;TZID=UTC+0:20180605T200000
DTEND;TZID=UTC+0:20180605T230000
DTSTAMP:20260424T021205
CREATED:20180508T173150
LAST-MODIFIED:20180604T084153
UID:15287-1528228800-1528239600@www.vortexjazz.co.uk
SUMMARY:Onyx Brass and Jason Rebello
DESCRIPTION:Onyx Brass and ...\nLaurence Cottle (bass)\nTrish Clowes (sax)\nJason Rebello (piano)\nIan Thomas (drums)\n \n\nOnyx Brass quintet launch their album\, Onyx Noir\, which features 12 new works from 12 greats\, including Gwilym Simcock\, Kenny Wheeler and Liam Noble. It shows how imaginatively musicians officially classified as 'jazz' can create music for more classical groups.\n\nOn the night\, the band are joined by a purer jazz group of Laurence Cottle\, Trish Clowes Jason Rebello and Ian Thomas\, who will play their own set.\n\nAn eclectic night of jazz from a brass quintet to a sax trio\, launching a landmark\, boundary-crossing album. ‘easily the classiest brass ensemble in Britain’ BBC Music Magazine\n\nOnyx Brass quintet launch their album\, Onyx Noir\, with the help of some friends.\n\n'...easily the classiest brass ensemble in Britain’ BBC Music Magazine\n\n[embed]https://www.youtube.com/watch?v=e2yYi8RSJlc[/embed]\n\n 
URL:https://www.vortexjazz.co.uk/event/onyx-brass/
LOCATION:11 Gillett Square\, London\, N16 8AZ
GEO:51.5487082;-0.0764992
X-APPLE-STRUCTURED-LOCATION;VALUE=URI;X-ADDRESS=11 Gillett Square London N16 8AZ;X-APPLE-RADIUS=500;X-TITLE=11 Gillett Square:geo:-0.0764992,51.5487082
ATTACH;FMTTYPE=image/jpeg:https://www.vortexjazz.co.uk/wp-content/uploads/2018/05/onyx-brass-2.jpg
END:VEVENT
END:VCALENDAR