BEGIN:VCALENDAR
VERSION:2.0
PRODID:-//Vortex Jazz Club - ECPv4.1.3//NONSGML v1.0//EN
CALSCALE:GREGORIAN
METHOD:PUBLISH
X-WR-CALNAME:Vortex Jazz Club
X-ORIGINAL-URL:https://www.vortexjazz.co.uk
X-WR-CALDESC:Events for Vortex Jazz Club
BEGIN:VEVENT
DTSTART;TZID=UTC+0:20180606T200000
DTEND;TZID=UTC+0:20180606T230000
DTSTAMP:20260424T005217
CREATED:20180529T202934
LAST-MODIFIED:20180604T084105
UID:15400-1528315200-1528326000@www.vortexjazz.co.uk
SUMMARY:Robin Fincker's Bedmakers + Lauren Kinsella/Tom Challenger
DESCRIPTION:Robin Fincker - tenor saxophone\nMathieu Werchowski - violin\nPascal Niggenkemper - bass\nFabien Duscombs - drums\n \n\nRobin Fincker has a knack for crossing his French roots with his love of the scene here in London\, where he was based for many years as a founder of the Loop Collective. Now one of the leading in-demand players in France\, with bands such as The Mediums and as a member of the Orchestre National de Jazz\, his latest visit to London is to launch a new album on London's Babel Label. An imaginative reworking of folk songs\, as seen from across the Channel! Melodies are caught in mid-air. These tunes that one hums without realising\, that feel familiar without being able to point their source\, find themselves out of their original context\, superposed or extended\, declaimed or only suggested\, sometimes buried under a storm of concrete-noise music or distilled in a minimalist blow. The quartet’s “Tribute to an Imaginary Folk Band” combines the illuminated blues of John Fahey with the lyrical flights of traditional Irish folk music\, the intense sobriety of guitarist Bert Jansch and the richness of free improvisation; thus creating an imaginary cross-road of these different musical essences.\n\n[embed]https://youtu.be/D-wY_1uJMsk[/embed]\n\n 
URL:https://www.vortexjazz.co.uk/event/robin-finckers-bedmakers-lauren-kinsellatom-challenger/
LOCATION:11 Gillett Square\, London\, N16 8AZ
GEO:51.5487082;-0.0764992
X-APPLE-STRUCTURED-LOCATION;VALUE=URI;X-ADDRESS=11 Gillett Square London N16 8AZ;X-APPLE-RADIUS=500;X-TITLE=11 Gillett Square:geo:-0.0764992,51.5487082
ATTACH;FMTTYPE=image/jpeg:https://www.vortexjazz.co.uk/wp-content/uploads/2018/05/Bedmakers-Oliver-Weindling.jpg
END:VEVENT
END:VCALENDAR