BEGIN:VCALENDAR
VERSION:2.0
PRODID:-//Vortex Jazz Club - ECPv4.1.3//NONSGML v1.0//EN
CALSCALE:GREGORIAN
METHOD:PUBLISH
X-WR-CALNAME:Vortex Jazz Club
X-ORIGINAL-URL:https://www.vortexjazz.co.uk
X-WR-CALDESC:Events for Vortex Jazz Club
BEGIN:VEVENT
DTSTART;TZID=UTC+0:20180613T200000
DTEND;TZID=UTC+0:20180613T230000
DTSTAMP:20260424T004518
CREATED:20180420T135956
LAST-MODIFIED:20180430T165943
UID:15235-1528920000-1528930800@www.vortexjazz.co.uk
SUMMARY:Talinka
DESCRIPTION:Tali Atzmon - vocs\n\nJenny Bliss - viola-da-gamba\, violin\, flute\, vocs\n\nGilad Atzmon - bass clarinet\, accordion\,soprano sax\, guitar\n\nYaron Stavi - double bass\n\n \n\nTalinka defies boundaries between styles and genres. It is where folk\, early music\, jazz and tango merge into simplicity\, harmony and warmth. Talinka creates a new distinctive sound that explores the unique and diverse journies of four British musicians: Jenny Bliss\, a baroque virtuoso artist\, Yaron Stavi\, one of the leading bass players in Europe\, Gilad Atzmon\, an internationally acclaimed Jazz saxophonist with an affinity for ethnic sounds and his wife Tali\, whose singing has been paired up with her theatrical career. The outcome of this musical journey is a natural breathing\, deep and spacious sonic adventure. The unusual choice of instruments and combination of personalities creates an amalgam of past and present\, East and West. It creates a natural continuum between ethnic\, jazz\, tango and early music. It transcends beyond musical boundaries. It is all about music for the sake of music.\n\n"Talinka - such an evocative name - wittily appropriate for this intimate set so sensitively arranged around Tali's straight from the heart\, true and soulful voice." Robert Wyatt\n\n"Talinka – is a fascinating project and Tali Atzmon has made a big impression with her musical début as a leader." Ian Mann\, THE JAZZ MANN\n\n"There’s an airy spaciousness about Talinka’s music\, a music that is never far from the taste of tears." Andy Robson\, Jazzwise\n\n"Terrific emotional depth...Very entertaining and richly enjoyable... Keening\, remorseful music\, but full of beauty." Peter Jones\, Bebop Spoken Here\n\n[embed]https://youtu.be/GGbge1qMbMA[/embed]\n\n 
URL:https://www.vortexjazz.co.uk/event/talinka-2/
LOCATION:11 Gillett Square\, London\, N16 8AZ
GEO:51.5487082;-0.0764992
X-APPLE-STRUCTURED-LOCATION;VALUE=URI;X-ADDRESS=11 Gillett Square London N16 8AZ;X-APPLE-RADIUS=500;X-TITLE=11 Gillett Square:geo:-0.0764992,51.5487082
ATTACH;FMTTYPE=image/jpeg:https://www.vortexjazz.co.uk/wp-content/uploads/2018/04/Talifilms_Fotor.jpg
END:VEVENT
END:VCALENDAR