BEGIN:VCALENDAR
VERSION:2.0
PRODID:-//Vortex Jazz Club - ECPv4.1.3//NONSGML v1.0//EN
CALSCALE:GREGORIAN
METHOD:PUBLISH
X-WR-CALNAME:Vortex Jazz Club
X-ORIGINAL-URL:https://www.vortexjazz.co.uk
X-WR-CALDESC:Events for Vortex Jazz Club
BEGIN:VEVENT
DTSTART;TZID=UTC+0:20180628T200000
DTEND;TZID=UTC+0:20180628T230000
DTSTAMP:20260423T231915
CREATED:20180423T111134
LAST-MODIFIED:20180518T174048
UID:15242-1530216000-1530226800@www.vortexjazz.co.uk
SUMMARY:Cameron Pierre
DESCRIPTION:\nCameron Pierre guitar\nPete Whittaker\, Organ\nYusuf Ahmed\, drums\n \n\nBorn in London\, Cameron was raised on the Caribbean island of Dominica. Like most of his peers\, Cameron's early musical influences were Bob Marley\, Burning Spear\, Jimmy Cliff\, and a host of artists from that era of popular Jamaican music\, . At seventeen he taught himself to play the guitar\, and it was within the reggae genre that he first established himself\, working with Jamaican artists including Clint Eastwood & General Saint\, Barrington\, Levy\, Al Campbell\, Wayne Marshall\, Dennis Brown\, Tipa Ire\, Micheal Prophet et al. Then came the slow discovery of George Benson and Charlie Christian\, and through them\, Wes Montgomery\, Miles Davis and Charlie Parker. Since then Cameron has gone on to work with Courtney Pine\, Pee Wee Ellis\, Orphy Robinson\, Mighty Sparrow\, Ernest Ranglin\, David Rudder\, Andy Narell\, Alex Wilson\, Mario Conange\, Sarah Jane Morris\, Byron Wallen\, Jazz Jamaica\, Dennis Rollins\, Ormar Puente\, Junior Walker\, Joe Cocker\, and numerous others. A stalwart of the British jazz scene since the 80s\, Pierre has been Saxophonist Courtney Pine’s guitarist for 25yrs. With 6 solo recordings to his name he continues to forge his own path. His last release\, "Radio Jumbo" sees Cameron teaming up with French virtuoso pianist Mario Canonge.\n\n[embed]https://youtu.be/5HHPX5ag49E[/embed]\n\n 
URL:https://www.vortexjazz.co.uk/event/cameron-pierre-2/
LOCATION:11 Gillett Square\, London\, N16 8AZ
GEO:51.5487082;-0.0764992
X-APPLE-STRUCTURED-LOCATION;VALUE=URI;X-ADDRESS=11 Gillett Square London N16 8AZ;X-APPLE-RADIUS=500;X-TITLE=11 Gillett Square:geo:-0.0764992,51.5487082
ATTACH;FMTTYPE=image/jpeg:https://www.vortexjazz.co.uk/wp-content/uploads/2018/04/cameron-pierre.jpg
END:VEVENT
BEGIN:VEVENT
DTSTART;TZID=UTC+0:20180628T200000
DTEND;TZID=UTC+0:20180628T220000
DTSTAMP:20260423T231915
CREATED:20180605T163207
LAST-MODIFIED:20180610T085723
UID:15433-1530216000-1530223200@www.vortexjazz.co.uk
SUMMARY:Words & Jazz (Downstairs)
DESCRIPTION:Poets: Bobby Parker Maria Apichella Ash Dickinson Joel Auterson\n\nMusicians: Rachael Cohen (sax) + band\n\nCome and celebrate the start of Summer with Words & Jazz! 'An outstanding summit between contemporary artists and musicians' (The Independent) The freshest\, most exciting poetry alongside top jazz musicians\, in the cosy\, intimate space of the newly refurbished Vortex bar. This month we have the brilliant Bobby Parker launching his new collection 'Working Class Voodoo' and many other fantastic poets. Music is by London's own Rachael Cohen\, supreme saxophonist\, with her band.\n\n'An outstanding summit between contemporary poets and musicians' (The Independent)\n\nhttps://www.nickiheinen.com\n\n \n\n 
URL:https://www.vortexjazz.co.uk/event/nikki-words-jazz-downstairs/
LOCATION:11 Gillett Square\, London\, N16 8AZ
GEO:51.5487082;-0.0764992
X-APPLE-STRUCTURED-LOCATION;VALUE=URI;X-ADDRESS=11 Gillett Square London N16 8AZ;X-APPLE-RADIUS=500;X-TITLE=11 Gillett Square:geo:-0.0764992,51.5487082
ATTACH;FMTTYPE=image/jpeg:https://www.vortexjazz.co.uk/wp-content/uploads/2013/10/Downstairs.jpg
END:VEVENT
END:VCALENDAR