BEGIN:VCALENDAR
VERSION:2.0
PRODID:-//Vortex Jazz Club - ECPv4.1.3//NONSGML v1.0//EN
CALSCALE:GREGORIAN
METHOD:PUBLISH
X-WR-CALNAME:Vortex Jazz Club
X-ORIGINAL-URL:https://www.vortexjazz.co.uk
X-WR-CALDESC:Events for Vortex Jazz Club
BEGIN:VEVENT
DTSTART;TZID=UTC+0:20180702T200000
DTEND;TZID=UTC+0:20180702T230000
DTSTAMP:20260424T010039
CREATED:20180525T171824
LAST-MODIFIED:20180629T213415
UID:15378-1530561600-1530572400@www.vortexjazz.co.uk
SUMMARY:AARON PARKS & LITTLE BIG (2-NIGHT RESIDENCY)
DESCRIPTION:Aaron Parks – piano\nGreg Tuohey – Guitar\nDJ Ginyard – Bass\nTommy Crane – Drums\n \n\nFOOTBALL 7PM DOWNSTAIRS FOLLOWED BY GIG UPSTAIRS 9PM\n\nPianist Aaron Parks released his Blue Note debut “Invisible Cinema” at the age of 25 following three Blue Note releases with trumpeter Terence Blanchard. The BBC declared it “one of the great albums of 2008.” JazzTimes hailed him as “a new visionary.” The San Jose Mercury News named his “Alive in Japan” release as their 2013 Top Jazz Album of the year. He has released two albums on ECM including a solo piano album and a trio record featuring Billy Hart and Ben Street.\n\nLittle Big\, the new band from pianist/composer Aaron Parks\, could in some ways be seen as a continuation of the trajectory set on his 2008 record “Invisible Cinema\,” with a deeper commitment to melodic songwriting\, modern rhythms\, and immersive storytelling. With members Greg Tuohey (guitar)\, DJ Ginyard (electric bass)\, and Tommy Crane (drums) bringing their experiences not only from jazz and improvised music but also electronica\, R&B\, indie pop\, alt-country\, and much more\, this is genre-fluid music which creates a world of its own.\n\nParks has performed and recorded with Kurt Rosenwinkel\, Dhafer Youssef\, Terri Lyne Carrington\, Ambrose Akinmusire\, Gretchen Parlato\, Kendrick Scott\, and Marcus Miller\, among others. He is also a founding member of James Farm with Joshua Redman\, Matt Penman and Eric Harland. His latest project “Aaron Parks & Little Big” will debut in 2018.
URL:https://www.vortexjazz.co.uk/event/aaron-parks-little-big-2-night-residency/
LOCATION:11 Gillett Square\, London\, N16 8AZ
GEO:51.5487082;-0.0764992
X-APPLE-STRUCTURED-LOCATION;VALUE=URI;X-ADDRESS=11 Gillett Square London N16 8AZ;X-APPLE-RADIUS=500;X-TITLE=11 Gillett Square:geo:-0.0764992,51.5487082
ATTACH;FMTTYPE=image/jpeg:https://www.vortexjazz.co.uk/wp-content/uploads/2018/05/NEW-band-photo-Aaron-Parks-1746x981-c-center.jpg
END:VEVENT
END:VCALENDAR