BEGIN:VCALENDAR
VERSION:2.0
PRODID:-//Vortex Jazz Club - ECPv4.1.3//NONSGML v1.0//EN
CALSCALE:GREGORIAN
METHOD:PUBLISH
X-WR-CALNAME:Vortex Jazz Club
X-ORIGINAL-URL:https://www.vortexjazz.co.uk
X-WR-CALDESC:Events for Vortex Jazz Club
BEGIN:VEVENT
DTSTART;TZID=UTC+0:20180712T200000
DTEND;TZID=UTC+0:20180712T230000
DTSTAMP:20260423T233225
CREATED:20180416T160703
LAST-MODIFIED:20180522T165539
UID:15200-1531425600-1531436400@www.vortexjazz.co.uk
SUMMARY:Evan Parker - Barry Guy Duo
DESCRIPTION:\n\n\n\nTwo long time collaborators and friends...\n\nEvan Parker\n\nEvan Parker returns for his monthly residency at the club. A major force in European improvising\, Parker has collaborated with everyone from Cecil Taylor\, Paul Bley & Anthony Braxton\, to Scott Walker\, Robert Wyatt and Squarepusher. He is one of Europe’s most innovative and intriguing saxophonists\, which is why he keeps audiences coming back for more.\n\n“If you’ve ever been tempted by free improvisation\, Parker is your gateway drug.” Stewart Lee\n\nBarry Guy\n\nBarry Guy is an innovative bass player and composer whose creative diversity in the fields of jazz improvisation\, chamber and orchestral performance and solo recitals is the outcome both of an unusually varied training and a zest for experimentation\, underpinned by a dedication to the double bass and the ideal of musical communication.\n\nHe is founder and Artistic Director of the London Jazz Composers Orchestra and the BGNO (Barry Guy New Orchestra) for which he has written several extended works. His concert works for chamber orchestras\, chamber groups and soloists have been widely performed and his skilful and inventive writing has resulted in an exceptional series of compositions.\n\n \n\n[embed]https://youtu.be/4VI1IY5iJ-Q[/embed]\n\n\n\n
URL:https://www.vortexjazz.co.uk/event/evan-parker-barry-guy-duo/
LOCATION:11 Gillett Square\, London\, N16 8AZ
GEO:51.5487082;-0.0764992
X-APPLE-STRUCTURED-LOCATION;VALUE=URI;X-ADDRESS=11 Gillett Square London N16 8AZ;X-APPLE-RADIUS=500;X-TITLE=11 Gillett Square:geo:-0.0764992,51.5487082
ATTACH;FMTTYPE=image/jpeg:https://www.vortexjazz.co.uk/wp-content/uploads/2018/04/04-16_Barry-Guy-Evan-Parker.-by-Caroline-Forbes-750x563.jpg
END:VEVENT
END:VCALENDAR