BEGIN:VCALENDAR
VERSION:2.0
PRODID:-//Vortex Jazz Club - ECPv4.1.3//NONSGML v1.0//EN
CALSCALE:GREGORIAN
METHOD:PUBLISH
X-WR-CALNAME:Vortex Jazz Club
X-ORIGINAL-URL:https://www.vortexjazz.co.uk
X-WR-CALDESC:Events for Vortex Jazz Club
BEGIN:VEVENT
DTSTART;TZID=UTC+0:20180715T140000
DTEND;TZID=UTC+0:20180715T173000
DTSTAMP:20260423T232125
CREATED:20180611T144435
LAST-MODIFIED:20220209T104035
UID:15441-1531663200-1531675800@www.vortexjazz.co.uk
SUMMARY:MOPOMOSO PRESENTS: THE AFTERNOON SESSIONS
DESCRIPTION:As part of its ‘Afternoon Sessions’ Mopomoso presents three contrasting duos of freely improvised music. Come and sample the delights of a music unlike any other in that the audience share the discovery the music at the same time as the musicians themselves. A truly direct listening experience.\n\n \n\nJohnny Lapio (trumpet) / John Russell guitar) duo\n\nItalian trumpter Johnny Lapio arrives for a debut duo with Mopomoso founder John Russell\n\n \n\nPaul Pignon (clarinet\,bass clarinet) / Richard Sanderson (amplified melodeon) duo\n\nBased in Sweden\, Paul Pignon has been involved with improvised music since the 1960s. He is joined by Linear Obsessional founder and head man Richard Sanderson.\n\n \n\nNoel Meek (electronics) / Alan Wilkinson (sax) duo\n\nNew Zealander Noel Meek brings his special blend of electronics to bear on the colossal saxophone of Flim Flam boss Alan Wilkinson. \n\n  
URL:https://www.vortexjazz.co.uk/event/mopomoso-presents-the-afternoon-sessions-4/
LOCATION:11 Gillett Square\, London\, N16 8AZ
GEO:51.5487082;-0.0764992
X-APPLE-STRUCTURED-LOCATION;VALUE=URI;X-ADDRESS=11 Gillett Square London N16 8AZ;X-APPLE-RADIUS=500;X-TITLE=11 Gillett Square:geo:-0.0764992,51.5487082
ATTACH;FMTTYPE=image/jpeg:https://www.vortexjazz.co.uk/wp-content/uploads/2018/06/john-russell-by-andy-newcombe_page_image.jpg
END:VEVENT
END:VCALENDAR