BEGIN:VCALENDAR
VERSION:2.0
PRODID:-//Vortex Jazz Club - ECPv4.1.3//NONSGML v1.0//EN
CALSCALE:GREGORIAN
METHOD:PUBLISH
X-WR-CALNAME:Vortex Jazz Club
X-ORIGINAL-URL:https://www.vortexjazz.co.uk
X-WR-CALDESC:Events for Vortex Jazz Club
BEGIN:VEVENT
DTSTART;TZID=UTC+0:20180721T200000
DTEND;TZID=UTC+0:20180721T230000
DTSTAMP:20260424T004525
CREATED:20150604T134829
LAST-MODIFIED:20180703T113506
UID:4838-1532203200-1532214000@www.vortexjazz.co.uk
SUMMARY:John Etheridge and Vimala Rowe
DESCRIPTION:Legendary English guitarist brings sensational new vocal star Vimala Rowe to the Vortex for an evening of passion and soul. John will play some of his celebrated solo set and then be joined by Vimala for an intimate guitar /vocal duo\, featuring repertoire drawn from sources across the world.\n"Awesome authority whenever he touches a guitar" - The Guardian\n"National Treasure" - Birmingham Post\n\n[embed]https://youtu.be/-tNsHVunQP8[/embed]\n\n 
URL:https://www.vortexjazz.co.uk/event/john-etheridge-and-vimala-rowe/
LOCATION:11 Gillett Square\, London\, N16 8AZ
GEO:51.5487082;-0.0764992
X-APPLE-STRUCTURED-LOCATION;VALUE=URI;X-ADDRESS=11 Gillett Square London N16 8AZ;X-APPLE-RADIUS=500;X-TITLE=11 Gillett Square:geo:-0.0764992,51.5487082
ATTACH;FMTTYPE=image/jpeg:https://www.vortexjazz.co.uk/wp-content/uploads/2015/06/ethridge-vimala.jpg
END:VEVENT
END:VCALENDAR