BEGIN:VCALENDAR
VERSION:2.0
PRODID:-//Vortex Jazz Club - ECPv4.1.3//NONSGML v1.0//EN
CALSCALE:GREGORIAN
METHOD:PUBLISH
X-WR-CALNAME:Vortex Jazz Club
X-ORIGINAL-URL:https://www.vortexjazz.co.uk
X-WR-CALDESC:Events for Vortex Jazz Club
BEGIN:VEVENT
DTSTART;TZID=UTC+0:20180726T200000
DTEND;TZID=UTC+0:20180726T230000
DTSTAMP:20260423T232951
CREATED:20180423T112650
LAST-MODIFIED:20180501T115120
UID:15244-1532635200-1532646000@www.vortexjazz.co.uk
SUMMARY:Maurizio Grondona Group
DESCRIPTION:Maurizio Grondona - Guitar\n\nNicky Belviso - Bass\n\nGiuseppe Grondona - Drums\n\nDave Browning - Keys\n\nInfluenced by numerous American jazz greats including Wes Montgomery\, Pat Metheny and Al Jarreau\, Maurizio also counts among his mentors hip-hop\, soul acts such as Grammy winners The Roots (Jimmy Fallon's House Band)\, the late renowned producer J Dilla\, De La Sou\, Busta Rhymes and Erykah Badu. The result of such a diverse musical education is cosmopolitan American jazz with a decidedly Mediterranean flavor. The Maurizio Grondona Group has been featured at numerous well regarded jazz festivals and showcases including Milan SIM\, Jazz for Amnesty International\, Vieste Festival\, Golden Lion in Venice and was highlighted in Los Angeles at Thursday Night Vibes (past performances include Al Jarred\, Marcus Miller\, Paul Jackson Jr). In addition the group has appeared at the prestigious Los Angeles Indie Music Film International Summit. Their performance at The Vortex will be their second show in London.\n\n \n\n[embed]https://youtu.be/-VAVrypwIIQ[/embed]
URL:https://www.vortexjazz.co.uk/event/maurizio-grondona-group/
LOCATION:11 Gillett Square\, London\, N16 8AZ
GEO:51.5487082;-0.0764992
X-APPLE-STRUCTURED-LOCATION;VALUE=URI;X-ADDRESS=11 Gillett Square London N16 8AZ;X-APPLE-RADIUS=500;X-TITLE=11 Gillett Square:geo:-0.0764992,51.5487082
ATTACH;FMTTYPE=image/jpeg:https://www.vortexjazz.co.uk/wp-content/uploads/2018/04/Maurizio.jpg
END:VEVENT
END:VCALENDAR