BEGIN:VCALENDAR
VERSION:2.0
PRODID:-//Vortex Jazz Club - ECPv4.1.3//NONSGML v1.0//EN
CALSCALE:GREGORIAN
METHOD:PUBLISH
X-WR-CALNAME:Vortex Jazz Club
X-ORIGINAL-URL:https://www.vortexjazz.co.uk
X-WR-CALDESC:Events for Vortex Jazz Club
BEGIN:VEVENT
DTSTART;TZID=UTC+0:20180804T110000
DTEND;TZID=UTC+0:20180804T140000
DTSTAMP:20260423T232847
CREATED:20180723T103606
LAST-MODIFIED:20180723T103606
UID:15690-1533380400-1533391200@www.vortexjazz.co.uk
SUMMARY:Grand Union Orchestra - Open Workshop
DESCRIPTION:Practical hands-on workshop exploring the musical and religious tradition of Candomblé (West African Yoruba culture as practised in Northeast Brazil)\, for reasonably able musicians of all ages\, led by Ricardo Axé as part of Grand Union’s\nTrading Roots residency.\n\nBrazilian Ricardo Axé (drummer/singer/dancer) is a celebrated and charismatic exponent of Candomblé. This ancient musical/cultural/religious tradition\, still flourishing in Bahia and Salvador\, was brought to Northeast Brazil from West Africa during the transatlantic slave trade. Like Santeria in Cuba\, it is descended from Yoruba culture\, and reflects its African roots in chants and drum rhythms associated with orishas like Ogun\, Oxossi and Ramunya. Ricardo will describe and enact the rituals of candomblé\, and – with the aid of Grand Union musicians and students from their recent Summer School – evoke these ancestral spirits through music. The Saturday morning open workshop offers an opportunity to learn more and explore at first hand.\n\nTime: 11am – 2pm (open public performance 1.30pm)\n\nThis programme aims to bring together and demonstrate the wide range of music and musicians flourishing in East London today. Most of the musicians involved in Trading Roots are first generation migrants\, with unique skills in music from around the world to share and pass on to others; hence the title\, suggesting also voyages of discovery. This is an important part of Grand Union’s mission\, and to put this principle into practice we have set up the Second Generation Orchestra. Each of these gigs therefore will feature also a guest young musician.
URL:https://www.vortexjazz.co.uk/event/grand-union-orchestra-open-workshop/
LOCATION:11 Gillett Square\, London\, N16 8AZ
GEO:51.5487082;-0.0764992
X-APPLE-STRUCTURED-LOCATION;VALUE=URI;X-ADDRESS=11 Gillett Square London N16 8AZ;X-APPLE-RADIUS=500;X-TITLE=11 Gillett Square:geo:-0.0764992,51.5487082
ATTACH;FMTTYPE=image/jpeg:https://www.vortexjazz.co.uk/wp-content/uploads/2018/07/Ricardo.jpg
END:VEVENT
BEGIN:VEVENT
DTSTART;TZID=UTC+0:20180804T210000
DTEND;TZID=UTC+0:20180805T020000
DTSTAMP:20260423T232847
CREATED:20180706T134727
LAST-MODIFIED:20180706T143216
UID:15570-1533416400-1533434400@www.vortexjazz.co.uk
SUMMARY:In The Moment...
DESCRIPTION:\n\n\nAn immersive mix of afro-latin music and dance\, fused with House\, Funk\, Reggae & Hip Hop.\n\nFree latin-inspired dance class led by Amanda Demerara (9:30pm to 10.15pm) DJ beats by Rapzcallion accompanied by live percussion by Williams Cumberbatch.\n\nFor up-to-date information please join the group at https://www.facebook.com/groups/180050072654506/\n\n\n\n\n
URL:https://www.vortexjazz.co.uk/event/in-the-moment-2/
LOCATION:11 Gillett Square\, London\, N16 8AZ
GEO:51.5487082;-0.0764992
X-APPLE-STRUCTURED-LOCATION;VALUE=URI;X-ADDRESS=11 Gillett Square London N16 8AZ;X-APPLE-RADIUS=500;X-TITLE=11 Gillett Square:geo:-0.0764992,51.5487082
ATTACH;FMTTYPE=image/jpeg:https://www.vortexjazz.co.uk/wp-content/uploads/2018/07/IN-THE-MOMENT-FLYER-2018-aug-a5.jpg
END:VEVENT
END:VCALENDAR