BEGIN:VCALENDAR
VERSION:2.0
PRODID:-//Vortex Jazz Club - ECPv4.1.3//NONSGML v1.0//EN
CALSCALE:GREGORIAN
METHOD:PUBLISH
X-WR-CALNAME:Vortex Jazz Club
X-ORIGINAL-URL:https://www.vortexjazz.co.uk
X-WR-CALDESC:Events for Vortex Jazz Club
BEGIN:VEVENT
DTSTART;TZID=UTC+0:20180807T200000
DTEND;TZID=UTC+0:20180807T200000
DTSTAMP:20260424T005101
CREATED:20180723T110857
LAST-MODIFIED:20180723T110857
UID:15692-1533672000-1533672000@www.vortexjazz.co.uk
SUMMARY:Olli Martin Quintet
DESCRIPTION:Olli Martin - Trombone\nTom Barford - Tenor Sax\nRupert Cox - Piano\nMatthew Read - Bass\nDave Storey - Drums.\n\nThe Olli Martin Quintet formed in 2017 and contains musicians who have long lasting musical and friendship connections. Original compositions by trombonist Olli Martin draw upon a wide range of influences\, styles and composers\, including Dave Holland\, Robin Eubanks\, and The Mason Brothers Quintet. This all helps to produce a varied and exciting sound with strong melodies and catchy grooves performed by the powerful combination of trombone and tenor saxophone with the classic rhythm section of piano\, bass and drums. The quintet have recently performed at The Con Cellar Bar\, Kansas Smitty’s\, Luna (Leyton) and The Talking Heads (Southampton).\n\n \n\n''His playing on this\, and throughout the evening\, combined the soulful bravura of Kid Ory\, with the musical sophistication of Urbie Green'' - Trevor Bannister\, Jazz in Reading.\n\n \n\n
URL:https://www.vortexjazz.co.uk/event/olli-martin-quintet/
LOCATION:11 Gillett Square\, London\, N16 8AZ
GEO:51.5487082;-0.0764992
X-APPLE-STRUCTURED-LOCATION;VALUE=URI;X-ADDRESS=11 Gillett Square London N16 8AZ;X-APPLE-RADIUS=500;X-TITLE=11 Gillett Square:geo:-0.0764992,51.5487082
ATTACH;FMTTYPE=image/png:https://www.vortexjazz.co.uk/wp-content/uploads/2018/07/0877ab_48ba7398f5ea4ffcb1fc8d3ab63b8c41_mv2_d_3648_2736_s_4_2.png
END:VEVENT
END:VCALENDAR