BEGIN:VCALENDAR
VERSION:2.0
PRODID:-//Vortex Jazz Club - ECPv4.1.3//NONSGML v1.0//EN
CALSCALE:GREGORIAN
METHOD:PUBLISH
X-WR-CALNAME:Vortex Jazz Club
X-ORIGINAL-URL:https://www.vortexjazz.co.uk
X-WR-CALDESC:Events for Vortex Jazz Club
BEGIN:VEVENT
DTSTART;TZID=UTC+0:20180813T200000
DTEND;TZID=UTC+0:20180813T233000
DTSTAMP:20260424T021711
CREATED:20180723T114150
LAST-MODIFIED:20180723T114422
UID:15696-1534190400-1534203000@www.vortexjazz.co.uk
SUMMARY:Warriors International Present Freedom
DESCRIPTION:The core team consists of Orphy Robinson\, Cleveland Watkiss\, Tori Handsley and Paul Bradshaw who are joined by an array of guests. You never know who’s going to drop in. In essence the team strive to bring improvised music out of the shadows and into the limelight…. and so the monthly open-minded Freedom Improv session continues. There’s an opening short set from an adhoc ensemble\, swiftly followed by constantly shifting sets of soul stirring improv sessions open to all… So tune in and get involved.\n Voted by the Evening Standard one of the Top 6 UK jam sessions.
URL:https://www.vortexjazz.co.uk/event/warriors-international-present-freedom-10/
LOCATION:11 Gillett Square\, London\, N16 8AZ
GEO:51.5487082;-0.0764992
X-APPLE-STRUCTURED-LOCATION;VALUE=URI;X-ADDRESS=11 Gillett Square London N16 8AZ;X-APPLE-RADIUS=500;X-TITLE=11 Gillett Square:geo:-0.0764992,51.5487082
ATTACH;FMTTYPE=image/jpeg:https://www.vortexjazz.co.uk/wp-content/uploads/2018/07/freedom2-750x515-750x515.jpg
END:VEVENT
END:VCALENDAR