BEGIN:VCALENDAR
VERSION:2.0
PRODID:-//Vortex Jazz Club - ECPv4.1.3//NONSGML v1.0//EN
CALSCALE:GREGORIAN
METHOD:PUBLISH
X-WR-CALNAME:Vortex Jazz Club
X-ORIGINAL-URL:https://www.vortexjazz.co.uk
X-WR-CALDESC:Events for Vortex Jazz Club
BEGIN:VEVENT
DTSTART;TZID=UTC+0:20180814T200000
DTEND;TZID=UTC+0:20180814T230000
DTSTAMP:20260424T022332
CREATED:20180727T123520
LAST-MODIFIED:20180727T123520
UID:15725-1534276800-1534287600@www.vortexjazz.co.uk
SUMMARY:Alex Merritt/Steve Fishwick Quintet
DESCRIPTION:Alex Merritt- Tenor Saxophone\nSteve Fishwick- Trumpet\nMick Coady-Bass\nMatt Fishwick- Drums\n\nThe Alex Merritt/ Steve Fishwick Quintet has been together for 5 years and is set to record at the end of August this year following a string of exciting UK dates over the last few months. The quintet has honed a contemporary straight-ahead sound that has been gaining attention around the country and which Alex and Steve are excited to bring to the Vortex just prior to hitting the studio. Expect fresh sounding modern jazz originals from this high calibre quintet with much energy and highly accomplished playing all round.\n\nIn relation to Alex's album 'Anatta':\n\n'Merritt’s rich but dry tone traces a line back to the Cool School jazzers such as Warne Marsh’ Robert Shore\, Jazzwise\, 4 stars\n\n‘Merritt’s warm\, dry\, Getzian fluency is a joy\, whether intertwining with Turville’s mysterious\, unpredictable chordal shifts or bubbling with controlled fervour.......' Adrian Pallant\, AP Reviews\, 5 stars\n\nSteve Fishwick:\n\nLegendary Jazz critic Ira Gitler said about Steve: "My question is where has Fishwick been hiding? Hip middle register melodious bebop\, but when Steve lights his wick he becomes a flying fish\, soaring above the waves\, totally in control!"
URL:https://www.vortexjazz.co.uk/event/alex-merrittsteve-fishwick-quintet/
LOCATION:11 Gillett Square\, London\, N16 8AZ
GEO:51.5487082;-0.0764992
X-APPLE-STRUCTURED-LOCATION;VALUE=URI;X-ADDRESS=11 Gillett Square London N16 8AZ;X-APPLE-RADIUS=500;X-TITLE=11 Gillett Square:geo:-0.0764992,51.5487082
ATTACH;FMTTYPE=image/jpeg:https://www.vortexjazz.co.uk/wp-content/uploads/2018/07/Alex-Lee6-Alex-Merritt-min.jpg
END:VEVENT
END:VCALENDAR