BEGIN:VCALENDAR
VERSION:2.0
PRODID:-//Vortex Jazz Club - ECPv4.1.3//NONSGML v1.0//EN
CALSCALE:GREGORIAN
METHOD:PUBLISH
X-WR-CALNAME:Vortex Jazz Club
X-ORIGINAL-URL:https://www.vortexjazz.co.uk
X-WR-CALDESC:Events for Vortex Jazz Club
BEGIN:VEVENT
DTSTART;TZID=UTC+0:20180815T200000
DTEND;TZID=UTC+0:20180815T230000
DTSTAMP:20260424T010032
CREATED:20180625T180226
LAST-MODIFIED:20180727T120118
UID:15500-1534363200-1534374000@www.vortexjazz.co.uk
SUMMARY:Alice Leggett Quartet
DESCRIPTION:Alice Leggett - alto saxophone\nRick Simpson - piano\nCalum Gourlay - bass\nWill Glaser - drums\n \n\nThe Alice Leggett Quartet will be playing a combination of Alice's original compositions\, and arrangements of well-known jazz standards. Alice has drawn influences from a variety of artists such as\, Miguel Zenon\, Ben Van Gelder\, Chris Cheek\, Bill Frisell\, Charlie Haden\, John Coltrane and Thelonius Monk; to name a few. Each member approaches the compositions in their own distinctive way\, helping the music venture towards various places\, whilst maintaining a strong band sound.\n\nSince graduating in 2017\, Alice has already made her mark on London's jazz landscape in a relatively short space of time\, having a chair in Calum Gourlay's legendary monthly big band residency at The Vortex and appearing as a featured soloist in Mark Lockheart's 2016 London Jazz Festival commission 'Brave World'. Rick Simpson has performed with musicians such as Christian Scott\, Eric Harland\, Joe Sanders\, Michael Janisch\, Ernesto Simpson\, Martin Speake\, Earl Burness Travis\, Stan Sulzmann\, and Jeff Williams. He plays in the ensembles of Leo Richardson\, Jay Phelps\, Tim Thornton\, Tommy Andrews\, Andre Canniere and Kristian Borring. Calum Gourlay has played with the Kit Downes Trio\, The Tommy Smith Group\, Will Vinson\, Jerry Bergonzi\,  The London Jazz Orchestra\, Ian Shaw and Julian Joseph. With a broad range of influences\, Will can be seen performing regularly in various contexts throughout the capital and is highly in demand.\n\nhttps://www.aliceleggett.co.uk
URL:https://www.vortexjazz.co.uk/event/alice-leggett-quartet/
LOCATION:11 Gillett Square\, London\, N16 8AZ
GEO:51.5487082;-0.0764992
X-APPLE-STRUCTURED-LOCATION;VALUE=URI;X-ADDRESS=11 Gillett Square London N16 8AZ;X-APPLE-RADIUS=500;X-TITLE=11 Gillett Square:geo:-0.0764992,51.5487082
ATTACH;FMTTYPE=image/jpeg:https://www.vortexjazz.co.uk/wp-content/uploads/2018/06/IMG_0363-Alice-Leggett.jpg
END:VEVENT
END:VCALENDAR