BEGIN:VCALENDAR
VERSION:2.0
PRODID:-//Vortex Jazz Club - ECPv4.1.3//NONSGML v1.0//EN
CALSCALE:GREGORIAN
METHOD:PUBLISH
X-WR-CALNAME:Vortex Jazz Club
X-ORIGINAL-URL:https://www.vortexjazz.co.uk
X-WR-CALDESC:Events for Vortex Jazz Club
BEGIN:VEVENT
DTSTART;TZID=UTC+0:20180816T200000
DTEND;TZID=UTC+0:20180816T230000
DTSTAMP:20260424T022327
CREATED:20180527T102409
LAST-MODIFIED:20180727T124128
UID:15383-1534449600-1534460400@www.vortexjazz.co.uk
SUMMARY:Evan Parker with Friends
DESCRIPTION:Maestro Evan Parker invites for his monthly residency John Edwards\, the master bassist and drummer Roger Turner\, known for some of the most imaginative band partnerships of the past 40 years.
URL:https://www.vortexjazz.co.uk/event/evan-parker-and-friends-6/
LOCATION:11 Gillett Square\, London\, N16 8AZ
GEO:51.5487082;-0.0764992
X-APPLE-STRUCTURED-LOCATION;VALUE=URI;X-ADDRESS=11 Gillett Square London N16 8AZ;X-APPLE-RADIUS=500;X-TITLE=11 Gillett Square:geo:-0.0764992,51.5487082
ATTACH;FMTTYPE=image/jpeg:https://www.vortexjazz.co.uk/wp-content/uploads/2018/04/evan-parker-by-dawid-laskowski-2014_page_image.jpg
END:VEVENT
END:VCALENDAR