BEGIN:VCALENDAR
VERSION:2.0
PRODID:-//Vortex Jazz Club - ECPv4.1.3//NONSGML v1.0//EN
CALSCALE:GREGORIAN
METHOD:PUBLISH
X-WR-CALNAME:Vortex Jazz Club
X-ORIGINAL-URL:https://www.vortexjazz.co.uk
X-WR-CALDESC:Events for Vortex Jazz Club
BEGIN:VEVENT
DTSTART;TZID=UTC+0:20180830T200000
DTEND;TZID=UTC+0:20180830T230000
DTSTAMP:20260424T022239
CREATED:20180723T133721
LAST-MODIFIED:20180801T174002
UID:15707-1535659200-1535670000@www.vortexjazz.co.uk
SUMMARY:Ray Carless - Windrush Jazz
DESCRIPTION:\n\n\n\nRay Carless is a talented Jamaican saxophonist whose musical career spans almost 40 years. He started started out on his musical journey working with a wide variety of pop jazz reggae funk and African bands.\nGroups like Cymande\, ABC\, Incognito\, Elvin Jones\, Jazz Warriors\, Jazz Jamaica\, Maxi Priest\, Billy Ocean\, Vin Gordon\, Black Roots\, Bhundu Boys\, Hugh Masakela and Manu Dibango\, too many to mention here but more recently with Adele on her massive Grammy winning '21' album.\nRay's still active on the International touring circuit with both Cymande and The Brit Funk Association....He has a modest selection of music released under his own name and in 2017 he released a musical tribute titled 'Moment In Time' dedicated to his hero and great Jamaican sporting legend Usain Bolt.\nThat EP is Ray's personal tribute to Usain the Jamaican legend who in 2017 decided to stop showing the other athletes the back of his running shoes.\nCheck out he lead track on the EP 'Moment In Time' at www.raycarless.com where you'll hear his heavy jazz flavoured reggae riddim featuring a rap by UK spoken word artist.\nWatusi87.\n\n\n[embed]https://youtu.be/o54o3LfTbQ4[/embed]\n\nhttps://youtu.be/SyrfldB3XrE\n
URL:https://www.vortexjazz.co.uk/event/ray-carless-windrush-jazz/
LOCATION:11 Gillett Square\, London\, N16 8AZ
GEO:51.5487082;-0.0764992
X-APPLE-STRUCTURED-LOCATION;VALUE=URI;X-ADDRESS=11 Gillett Square London N16 8AZ;X-APPLE-RADIUS=500;X-TITLE=11 Gillett Square:geo:-0.0764992,51.5487082
ATTACH;FMTTYPE=image/jpeg:https://www.vortexjazz.co.uk/wp-content/uploads/2018/07/ray-carless.jpg
END:VEVENT
END:VCALENDAR