BEGIN:VCALENDAR
VERSION:2.0
PRODID:-//Vortex Jazz Club - ECPv4.1.3//NONSGML v1.0//EN
CALSCALE:GREGORIAN
METHOD:PUBLISH
X-WR-CALNAME:Vortex Jazz Club
X-ORIGINAL-URL:https://www.vortexjazz.co.uk
X-WR-CALDESC:Events for Vortex Jazz Club
BEGIN:VEVENT
DTSTART;TZID=UTC+0:20180901T200000
DTEND;TZID=UTC+0:20180901T230000
DTSTAMP:20260424T034015
CREATED:20180812T075151
LAST-MODIFIED:20180829T130739
UID:15761-1535832000-1535842800@www.vortexjazz.co.uk
SUMMARY:Gilad Atzmon plays Coltrane and Parker - 2nd night: Charlie Parker
DESCRIPTION:On this second night\, we can hear Gilad Atzmon play the music of the be-bop saxophone god\, Charlie Parker. His uncanny ability to understand\, replicate and build on the heritage of the two most influential saxophonists makes both nights a 'must see'.\n\nhttps://youtu.be/vSY41cKnd2U
URL:https://www.vortexjazz.co.uk/event/gilad-atzmon-plays-coltrane-and-parker-2nd-night/
LOCATION:11 Gillett Square\, London\, N16 8AZ
GEO:51.5487082;-0.0764992
X-APPLE-STRUCTURED-LOCATION;VALUE=URI;X-ADDRESS=11 Gillett Square London N16 8AZ;X-APPLE-RADIUS=500;X-TITLE=11 Gillett Square:geo:-0.0764992,51.5487082
ATTACH;FMTTYPE=image/jpeg:https://www.vortexjazz.co.uk/wp-content/uploads/2018/02/Gilad.jpg
END:VEVENT
END:VCALENDAR