BEGIN:VCALENDAR
VERSION:2.0
PRODID:-//Vortex Jazz Club - ECPv4.1.3//NONSGML v1.0//EN
CALSCALE:GREGORIAN
METHOD:PUBLISH
X-WR-CALNAME:Vortex Jazz Club
X-ORIGINAL-URL:https://www.vortexjazz.co.uk
X-WR-CALDESC:Events for Vortex Jazz Club
BEGIN:VEVENT
DTSTART;TZID=UTC+0:20180902T150000
DTEND;TZID=UTC+0:20180902T180000
DTSTAMP:20260424T034219
CREATED:20180718T135650
LAST-MODIFIED:20180718T140213
UID:15680-1535900400-1535911200@www.vortexjazz.co.uk
SUMMARY:John Bennett Band
DESCRIPTION:The John Bennett Band is a 15 piece jazz ensemble. The music is structured whilst also allowing for interplay between the musicians.\nJohn describes the band as not a “ big band “ as such\, but rather a large jazz ensemble partly inspired by early New Orleans jazz - King Oliver\,Armstrong\, and later Gil Evans\, Miles Davis \, Mingus\, and Monk\, to name but a few.\n\nThe line up -\nTrumpets: Peter Rolinson\, Claud Deppa\, Steve Pretty.\nSaxs:  Dave Blackmore\, Louise Elliot\, Rachel Bartlett\, Tamar Osborn\,\nTrombones: Dave Lidell\, Alan Tomlinson\, John Bennett\,\nTuba: Jeff Miller\nGuitar:  John Blackwell\nKeys: Catherine Craig\nBass: Gareth Morgan\nDrums: Harry Bennett
URL:https://www.vortexjazz.co.uk/event/john-bennett-band-9/
LOCATION:11 Gillett Square\, London\, N16 8AZ
GEO:51.5487082;-0.0764992
X-APPLE-STRUCTURED-LOCATION;VALUE=URI;X-ADDRESS=11 Gillett Square London N16 8AZ;X-APPLE-RADIUS=500;X-TITLE=11 Gillett Square:geo:-0.0764992,51.5487082
ATTACH;FMTTYPE=image/jpeg:https://www.vortexjazz.co.uk/wp-content/uploads/2018/07/john-bennett-band.jpg
END:VEVENT
END:VCALENDAR