BEGIN:VCALENDAR
VERSION:2.0
PRODID:-//Vortex Jazz Club - ECPv4.1.3//NONSGML v1.0//EN
CALSCALE:GREGORIAN
METHOD:PUBLISH
X-WR-CALNAME:Vortex Jazz Club
X-ORIGINAL-URL:https://www.vortexjazz.co.uk
X-WR-CALDESC:Events for Vortex Jazz Club
BEGIN:VEVENT
DTSTART;TZID=UTC+0:20180914T200000
DTEND;TZID=UTC+0:20180914T230000
DTSTAMP:20260422T235128
CREATED:20180816T125618
LAST-MODIFIED:20180816T125618
UID:15770-1536955200-1536966000@www.vortexjazz.co.uk
SUMMARY:Rick Simpson/Dave Whitford/Will Glaser
DESCRIPTION:Rick Simpson - piano\nDave Whitford - double bass\nWill Glaser - drums\n\nA trio of improvisers that take to the stage with no planned set list. Music weaves in and out though written material and improvised with each member having an equal voice and command to take the music wherever they please. Some familiar music by Deerhoof\, Ornette Coleman and Stravinsky may arise.\n\n \n\n 
URL:https://www.vortexjazz.co.uk/event/rick-simpsondave-whitfordwill-glaser/
LOCATION:11 Gillett Square\, London\, N16 8AZ
GEO:51.5487082;-0.0764992
X-APPLE-STRUCTURED-LOCATION;VALUE=URI;X-ADDRESS=11 Gillett Square London N16 8AZ;X-APPLE-RADIUS=500;X-TITLE=11 Gillett Square:geo:-0.0764992,51.5487082
ATTACH;FMTTYPE=image/jpeg:https://www.vortexjazz.co.uk/wp-content/uploads/2018/08/Rick-Simpson.jpg
END:VEVENT
END:VCALENDAR