BEGIN:VCALENDAR
VERSION:2.0
PRODID:-//Vortex Jazz Club - ECPv4.1.3//NONSGML v1.0//EN
CALSCALE:GREGORIAN
METHOD:PUBLISH
X-WR-CALNAME:Vortex Jazz Club
X-ORIGINAL-URL:https://www.vortexjazz.co.uk
X-WR-CALDESC:Events for Vortex Jazz Club
BEGIN:VEVENT
DTSTART;TZID=UTC+0:20190101T200000
DTEND;TZID=UTC+0:20190101T230000
DTSTAMP:20260422T102737
CREATED:20181221T133944
LAST-MODIFIED:20181227T104219
UID:16477-1546372800-1546383600@www.vortexjazz.co.uk
SUMMARY:Procrastinators’ NYE Party
DESCRIPTION:Usual procrastinators including Piotr\, Zac\, Ewan Bleach and others...\n\nThe Procrastinators’ NYE Party is for anyone who wants the fun of NYE without the pressure/had a disappointing NYE and wants to have another go/ loves NYE so much they want to do it all again. Join us for an evening of laid-back partying with some stonking good music\, good beer\, good wine and some warm and irreverent company. What better way to start the new year!
URL:https://www.vortexjazz.co.uk/event/procrastinators-nye-party/
LOCATION:11 Gillett Square\, London\, N16 8AZ
GEO:51.5487082;-0.0764992
X-APPLE-STRUCTURED-LOCATION;VALUE=URI;X-ADDRESS=11 Gillett Square London N16 8AZ;X-APPLE-RADIUS=500;X-TITLE=11 Gillett Square:geo:-0.0764992,51.5487082
ATTACH;FMTTYPE=image/jpeg:https://www.vortexjazz.co.uk/wp-content/uploads/2018/12/pro.jpg
END:VEVENT
END:VCALENDAR