BEGIN:VCALENDAR
VERSION:2.0
PRODID:-//Vortex Jazz Club - ECPv4.1.3//NONSGML v1.0//EN
CALSCALE:GREGORIAN
METHOD:PUBLISH
X-WR-CALNAME:Vortex Jazz Club
X-ORIGINAL-URL:https://www.vortexjazz.co.uk
X-WR-CALDESC:Events for Vortex Jazz Club
BEGIN:VEVENT
DTSTART;TZID=UTC+0:20190107T200000
DTEND;TZID=UTC+0:20190107T233000
DTSTAMP:20260422T102604
CREATED:20181217T140943
LAST-MODIFIED:20181217T140943
UID:16441-1546891200-1546903800@www.vortexjazz.co.uk
SUMMARY:CALUM GOURLAY BIG BAND
DESCRIPTION:Our monthly residency continues for a big band initiated by bassist Calum Gourlay\, known for his great work with Thelonious\, an award-winning solo album and more. “I want it to be an inclusive band that represents the London that I know and love”.\n\nAn opportunity to check out some some the best and younger musicians in London.
URL:https://www.vortexjazz.co.uk/event/calum-gourlay-big-band-8/
LOCATION:11 Gillett Square\, London\, N16 8AZ
GEO:51.5487082;-0.0764992
X-APPLE-STRUCTURED-LOCATION;VALUE=URI;X-ADDRESS=11 Gillett Square London N16 8AZ;X-APPLE-RADIUS=500;X-TITLE=11 Gillett Square:geo:-0.0764992,51.5487082
ATTACH;FMTTYPE=image/jpeg:https://www.vortexjazz.co.uk/wp-content/uploads/2018/10/cal-pic-3_Fotor-1.jpg
END:VEVENT
END:VCALENDAR