BEGIN:VCALENDAR
VERSION:2.0
PRODID:-//Vortex Jazz Club - ECPv4.1.3//NONSGML v1.0//EN
CALSCALE:GREGORIAN
METHOD:PUBLISH
X-WR-CALNAME:Vortex Jazz Club
X-ORIGINAL-URL:https://www.vortexjazz.co.uk
X-WR-CALDESC:Events for Vortex Jazz Club
BEGIN:VEVENT
DTSTART;TZID=UTC+0:20190110T200000
DTEND;TZID=UTC+0:20190110T233000
DTSTAMP:20260422T102823
CREATED:20181207T152738
LAST-MODIFIED:20181207T152738
UID:16400-1547150400-1547163000@www.vortexjazz.co.uk
SUMMARY:RESOLUTE + friends + Clarkson/Williams
DESCRIPTION:Raph Clarkson (trombone\, FX) + Chris Williams (sax) will perform a freely improvised set\, interacting with the live painting of Aurelie Freoua.\n\nThe second set will see RESOLUTE preview their forthcoming self-titled album\, coming out on April 20th 2018 on Babel Label. Their music comprises a fiery mix of freely improvised music\, grooves\, ambient soundscapes\, poetry\, spoken word\, noise\, and contemporary jazz; and here they'll invite guest poets to join them alongside more live art from Aurelie Freoua.\n\nRESOLUTE are:\n\nGboyega Odubanjo - vocals\n\nRaph Clarkson - trombone\, FX\, vocals\n\nPhil Merriman - keyboards\n\nSimon Roth - drums
URL:https://www.vortexjazz.co.uk/event/resolute-friends-clarksonwilliams/
LOCATION:11 Gillett Square\, London\, N16 8AZ
GEO:51.5487082;-0.0764992
X-APPLE-STRUCTURED-LOCATION;VALUE=URI;X-ADDRESS=11 Gillett Square London N16 8AZ;X-APPLE-RADIUS=500;X-TITLE=11 Gillett Square:geo:-0.0764992,51.5487082
ATTACH;FMTTYPE=image/jpeg:https://www.vortexjazz.co.uk/wp-content/uploads/2018/12/resolute.jpg
END:VEVENT
END:VCALENDAR