BEGIN:VCALENDAR
VERSION:2.0
PRODID:-//Vortex Jazz Club - ECPv4.1.3//NONSGML v1.0//EN
CALSCALE:GREGORIAN
METHOD:PUBLISH
X-WR-CALNAME:Vortex Jazz Club
X-ORIGINAL-URL:https://www.vortexjazz.co.uk
X-WR-CALDESC:Events for Vortex Jazz Club
BEGIN:VEVENT
DTSTART;TZID=UTC+0:20190118T200000
DTEND;TZID=UTC+0:20190118T230000
DTSTAMP:20260422T103006
CREATED:20190112T195106
LAST-MODIFIED:20190112T195923
UID:16541-1547841600-1547852400@www.vortexjazz.co.uk
SUMMARY:Ray Carless Band: Windrush Jazz
DESCRIPTION:Jamaican saxophonist Ray Carless is returns to the Vortex with Windrush Jazz.  Carless started out on his musical journey working with a wide variety of pop jazz reggae funk and African bands. These bands include groups such as  Cymande\, ABC\, Incognito\, Elvin Jones\, Jazz Warriors\, Jazz Jamaica\, Maxi Priest\, Billy Ocean\, Vin Gordon\, Black Roots\, Bhundu Boys\, Hugh Masakela and Manu Dibango\, too many to mention here but more recently with Adele on her massive Grammy winning ’21’ album. Expect jazz with reggae vibes.\n\n[embed]https://youtu.be/-aomXgBW_Gs[/embed]\n\n 
URL:https://www.vortexjazz.co.uk/event/ray-carless-band-windrush-jazz/
LOCATION:11 Gillett Square\, London\, N16 8AZ
GEO:51.5487082;-0.0764992
X-APPLE-STRUCTURED-LOCATION;VALUE=URI;X-ADDRESS=11 Gillett Square London N16 8AZ;X-APPLE-RADIUS=500;X-TITLE=11 Gillett Square:geo:-0.0764992,51.5487082
ATTACH;FMTTYPE=image/jpeg:https://www.vortexjazz.co.uk/wp-content/uploads/2019/01/27A5276.jpg
END:VEVENT
END:VCALENDAR