BEGIN:VCALENDAR
VERSION:2.0
PRODID:-//Vortex Jazz Club - ECPv4.1.3//NONSGML v1.0//EN
CALSCALE:GREGORIAN
METHOD:PUBLISH
X-WR-CALNAME:Vortex Jazz Club
X-ORIGINAL-URL:https://www.vortexjazz.co.uk
X-WR-CALDESC:Events for Vortex Jazz Club
BEGIN:VEVENT
DTSTART;TZID=UTC+0:20190120T150000
DTEND;TZID=UTC+0:20190120T180000
DTSTAMP:20260422T102823
CREATED:20181217T154436
LAST-MODIFIED:20220209T103956
UID:16460-1547996400-1548007200@www.vortexjazz.co.uk
SUMMARY:MOPOMOSO PRESENTS: THE AFTERNOON SESSIONS
DESCRIPTION:Electric\, acoustic\, micro-tonal\, plectrum\, prepared\, finger style\, steel\, nylon\, hollow and solid body. Showcasing a number of approaches to the instrument Mopomoso starts the New Year with an all guitar special featuring Matthew Grigg\, Mark Hewins\, Ross Lambert\, Pascal Marzan\, John Russell\, Dave Tucker\, Alex Ward and Joshua Weitzel. ‘It don’t mean a thing if it ain’t got a string!’\n\n 
URL:https://www.vortexjazz.co.uk/event/mopomoso-presents-the-afternoon-sessions-6/
LOCATION:11 Gillett Square\, London\, N16 8AZ
GEO:51.5487082;-0.0764992
X-APPLE-STRUCTURED-LOCATION;VALUE=URI;X-ADDRESS=11 Gillett Square London N16 8AZ;X-APPLE-RADIUS=500;X-TITLE=11 Gillett Square:geo:-0.0764992,51.5487082
ATTACH;FMTTYPE=image/jpeg:https://www.vortexjazz.co.uk/wp-content/uploads/2013/11/17-Nov-JOHN-RUSSELL-for-Mopomoso.jpg
END:VEVENT
BEGIN:VEVENT
DTSTART;TZID=UTC+0:20190120T200000
DTEND;TZID=UTC+0:20190120T233000
DTSTAMP:20260422T102823
CREATED:20181123T153856
LAST-MODIFIED:20181217T160138
UID:16355-1548014400-1548027000@www.vortexjazz.co.uk
SUMMARY:Crossing
DESCRIPTION:'Crossing' is a trio with Veryan Weston/keystation\, Hannah Marshall/cello and Yusuf Ahmed/drums/percussion. They present a new project with specially invited guest violinist Pei Ann Yeoh who is visiting UK from Malaysia. The music is based around rhythm figures and tessellating pentatonic scale forms that provide a sonic garden for all participants to play and explore using their amazing skills as improvisers.\nPei Ann Yeoh - I don’t exaggerate by saying that she is a “genius” - Kourosh Ziabari - an award-winning Iranian journalist
URL:https://www.vortexjazz.co.uk/event/veryan-weston/
LOCATION:11 Gillett Square\, London\, N16 8AZ
GEO:51.5487082;-0.0764992
X-APPLE-STRUCTURED-LOCATION;VALUE=URI;X-ADDRESS=11 Gillett Square London N16 8AZ;X-APPLE-RADIUS=500;X-TITLE=11 Gillett Square:geo:-0.0764992,51.5487082
ATTACH;FMTTYPE=image/jpeg:https://www.vortexjazz.co.uk/wp-content/uploads/2018/11/quartet-pic-for-Vortex-1.jpg
END:VEVENT
END:VCALENDAR