BEGIN:VCALENDAR
VERSION:2.0
PRODID:-//Vortex Jazz Club - ECPv4.1.3//NONSGML v1.0//EN
CALSCALE:GREGORIAN
METHOD:PUBLISH
X-WR-CALNAME:Vortex Jazz Club
X-ORIGINAL-URL:https://www.vortexjazz.co.uk
X-WR-CALDESC:Events for Vortex Jazz Club
BEGIN:VEVENT
DTSTART;TZID=UTC+0:20190128T200000
DTEND;TZID=UTC+0:20190128T233000
DTSTAMP:20260422T102655
CREATED:20181217T171214
LAST-MODIFIED:20190123T114025
UID:16469-1548705600-1548718200@www.vortexjazz.co.uk
SUMMARY:Jazz Alloy
DESCRIPTION:\n\n\nThe second collaboration of Jazz Alloy is a brave cross genre mix were the legendary saxophonist Steve Williamson (from Jazz Warriors and a successful solo career including a first album produced by Wayne Shorter) will team up with the Swedish folk star Emilia Amper on key harp and vocals\, and the amazing drummer Marque Gilmore (Joe Zawinul\, Omar Sosa and others) aka "King of the Jungle Drums".\n\nThis format of musical labs is a unique experience for both audience and musicians and has been created from the most interesting and forward thinking Swedish and UK music innovators. All concerts are hosted by the UK-based and award winning Swedish vocalist Emilia Mårtensson.\n\n\n\n\n[embed]https://www.youtube.com/watch?v=0opv4r0rUjM[/embed]\n\nThe series of totally 6 concerts is organised by Musikcentrum Öst/Sweden\, the Vortex Jazz Club and Emilia Mårtensson in collaboration with The Embassy of Sweden\, EFG London Jazz Festival and Svensk Jazz. Jazz Alloy is supported by Musikverket.\n\nEmilia is a world star  of the key harp. The chance to hear this collaboration will be explosive but lyrical\, to be sure.
URL:https://www.vortexjazz.co.uk/event/jazz-alloy/
LOCATION:11 Gillett Square\, London\, N16 8AZ
GEO:51.5487082;-0.0764992
X-APPLE-STRUCTURED-LOCATION;VALUE=URI;X-ADDRESS=11 Gillett Square London N16 8AZ;X-APPLE-RADIUS=500;X-TITLE=11 Gillett Square:geo:-0.0764992,51.5487082
ATTACH;FMTTYPE=image/jpeg:https://www.vortexjazz.co.uk/wp-content/uploads/2018/12/Jazz-Alloy.jpg
END:VEVENT
END:VCALENDAR