BEGIN:VCALENDAR
VERSION:2.0
PRODID:-//Vortex Jazz Club - ECPv4.1.3//NONSGML v1.0//EN
CALSCALE:GREGORIAN
METHOD:PUBLISH
X-WR-CALNAME:Vortex Jazz Club
X-ORIGINAL-URL:https://www.vortexjazz.co.uk
X-WR-CALDESC:Events for Vortex Jazz Club
BEGIN:VEVENT
DTSTART;TZID=UTC+0:20190212T200000
DTEND;TZID=UTC+0:20190212T233000
DTSTAMP:20260422T120339
CREATED:20181217T143450
LAST-MODIFIED:20181217T143450
UID:16447-1550001600-1550014200@www.vortexjazz.co.uk
SUMMARY:Nishla Smith Quintet
DESCRIPTION:Nishla is a singer and songwriter who defies easy categorisation. Her live sets include a breathtaking variety of material: from celebrated originals to dark jazz standards and devastating ballads. One of Manchester Jazz Festival’s talent development artists and a prolific collaborator\, Nishla has worked with some of the most highly respected jazz\, and classical musicians in the UK. She recently collaborated with harpist Bec Mills on a project for Sage Gateshead’s summer residency program\, and after frequent collaborations with Manchester Collective\, her voice has come to be associated with her signature lush string arrangements. Nishla’s newest venture is a quintet bringing together some of Manchester’s best improvisors- Aaron Wood\, Rich Jones\, Josh Cavanagh Brierley\, and Johnny Hunter to breathe a new playfulness into her haunting songs.\n\n"The silenced room said it all" - Bebop Spoken Here \n\n"It's easy to get lost in Nishla's voice" - Caught In The Act\n\n \n\n \n\n
URL:https://www.vortexjazz.co.uk/event/nishla-smith-quintet/
LOCATION:11 Gillett Square\, London\, N16 8AZ
GEO:51.5487082;-0.0764992
X-APPLE-STRUCTURED-LOCATION;VALUE=URI;X-ADDRESS=11 Gillett Square London N16 8AZ;X-APPLE-RADIUS=500;X-TITLE=11 Gillett Square:geo:-0.0764992,51.5487082
ATTACH;FMTTYPE=image/jpeg:https://www.vortexjazz.co.uk/wp-content/uploads/2018/12/nish-smith.jpg
END:VEVENT
END:VCALENDAR