BEGIN:VCALENDAR
VERSION:2.0
PRODID:-//Vortex Jazz Club - ECPv4.1.3//NONSGML v1.0//EN
CALSCALE:GREGORIAN
METHOD:PUBLISH
X-WR-CALNAME:Vortex Jazz Club
X-ORIGINAL-URL:https://www.vortexjazz.co.uk
X-WR-CALDESC:Events for Vortex Jazz Club
BEGIN:VEVENT
DTSTART;TZID=UTC+0:20190616T140000
DTEND;TZID=UTC+0:20190616T173000
DTSTAMP:20260420T061607
CREATED:20190531T155659
LAST-MODIFIED:20220209T103913
UID:17183-1560693600-1560706200@www.vortexjazz.co.uk
SUMMARY:Mopomoso: Afternoon Sessions
DESCRIPTION:\n\nLine up:\n\nMatt Hutchinson (piano)\, Sue Lynch (sax)\, Hutch Demouilpied (trumpet) trio\n+\nEmil Karlsen (drums) solo\n+\nAlan Tomlinson (trombone)\, Dave Tucker (guitar)\, Phil Marks (drums) trio\n\nThree sets from the world of free improvisation to enlighten and inspire.\n\nMatt Hutchinson (piano)\, Sue Lynch (sax)\, Hutch Demouilpied (trumpet) trio. Another chance to catch the longstanding duo of Sue Lynch - sax/flute and Hutch Demouilpied - trumpet \, augmented on this occasion by keyboard player Matt Hutchinson on piano. He brings a further dynamic and perhaps a certain 'wildcard' element to their excellent and sometimes uncanny musical rapport.\n\n[gallery ids="17197\,17198\,17199"]\n\n[embed]https://vimeo.com/276461517[/embed]
URL:https://www.vortexjazz.co.uk/event/mopomoso-afternoon-sessions-3/
LOCATION:11 Gillett Square\, London\, N16 8AZ
GEO:51.5487082;-0.0764992
X-APPLE-STRUCTURED-LOCATION;VALUE=URI;X-ADDRESS=11 Gillett Square London N16 8AZ;X-APPLE-RADIUS=500;X-TITLE=11 Gillett Square:geo:-0.0764992,51.5487082
ATTACH;FMTTYPE=image/jpeg:https://www.vortexjazz.co.uk/wp-content/uploads/2019/05/John-R-1-750x500.jpg
END:VEVENT
END:VCALENDAR