BEGIN:VCALENDAR
VERSION:2.0
PRODID:-//Vortex Jazz Club - ECPv4.1.3//NONSGML v1.0//EN
CALSCALE:GREGORIAN
METHOD:PUBLISH
X-WR-CALNAME:Vortex Jazz Club
X-ORIGINAL-URL:https://www.vortexjazz.co.uk
X-WR-CALDESC:Events for Vortex Jazz Club
BEGIN:VEVENT
DTSTART;TZID=UTC+0:20190701T194500
DTEND;TZID=UTC+0:20190701T230000
DTSTAMP:20260421T130227
CREATED:20190606T092136
LAST-MODIFIED:20190623T142400
UID:17191-1562010300-1562022000@www.vortexjazz.co.uk
SUMMARY:South African Special! Abraham Mennen (+ Raph Clarkson\, Phil Merriman\, Huw V Williams\, Corrie Dick)
DESCRIPTION:\n\n\n\n\n\nAbraham Mennen - Saxophone\nRaph Clarkson - trombone\nPhil Merriman - Piano\nHuw V Williams- bass\nCorrie Dick - drums\n\n \nTrombonist Raph Clarkson recently spent time in South African where he hooked up with Abraham Mennen. He now returns the favour with Abraham coming over to UK and playing with Raph and some of the best young musicians on the scene here.\n\n\n\nAbraham Mennen is a South African multi-award winning saxophonist\, improvisor\, composer and multi-discipline artist. Abraham has worked with Louis Moholo\, William Parker\, Oliver Lake\, Kidd Jordan\, Joe Morris\, John Lockwood\, Herbie Tsoaeli\, Hilton Schilder\, Kyle Shepherd\, Kesivan Naidoo\, Hamid Drake\, Cooper-Moore\, Shabaka Hutchins\, Reza Khota\, Mandla Mlangeni and many others. He has recorded with William Parker and is a member of several of his ensembles. He is also a member of the Hilton Schilder Quartet and various of Louis Moholo’s ensembles. \n\nAbraham performs regularly in New York and throughout South Africa. He has recorded three albums under his own name with the latest two albums due for release December 2018\, namely  “The Really Revered Whole Story” and “Three Improvisations”. \n\n\n\n\nAbraham has recently recorded two new studio albums on the label Faure Music. The Really Revered Whole Story is a quartet studio album of original music composed by Abraham Mennen featuring Abraham Mennen on saxophones\, Reza Khota on Guitar\, Ariel Zamonsky on double bass\, Clement Benny on drums. Three Improvisations is a duo studio album comprising three improvisations; two completely free form and one based off an original by Ariel Zamonsky (from Shabaka and The Ancestors). The album features Abraham on saxophone and percussion\, and Ariel Zamonsky on on the double bass.\n\nRaph is known for his work with World Service Project but now\, even more\, for his innovative groups Dissolute Society and Resolute. Collaborations are in his DNA - with poets\, artists and musicians from all around the globe.\n\nhttps://youtu.be/ChD9iTe-Jbg\n\n\n\n\n\n\n\n
URL:https://www.vortexjazz.co.uk/event/abraham-mennen-clarkson-merriman-williams-dick/
LOCATION:11 Gillett Square\, London\, N16 8AZ
GEO:51.5487082;-0.0764992
X-APPLE-STRUCTURED-LOCATION;VALUE=URI;X-ADDRESS=11 Gillett Square London N16 8AZ;X-APPLE-RADIUS=500;X-TITLE=11 Gillett Square:geo:-0.0764992,51.5487082
ATTACH;FMTTYPE=image/jpeg:https://www.vortexjazz.co.uk/wp-content/uploads/2019/06/abraham1watermarked.jpg
END:VEVENT
END:VCALENDAR