BEGIN:VCALENDAR
VERSION:2.0
PRODID:-//Vortex Jazz Club - ECPv4.1.3//NONSGML v1.0//EN
CALSCALE:GREGORIAN
METHOD:PUBLISH
X-WR-CALNAME:Vortex Jazz Club
X-ORIGINAL-URL:https://www.vortexjazz.co.uk
X-WR-CALDESC:Events for Vortex Jazz Club
BEGIN:VEVENT
DTSTART;TZID=UTC+0:20190703T194500
DTEND;TZID=UTC+0:20190703T230000
DTSTAMP:20260421T131130
CREATED:20190612T123613
LAST-MODIFIED:20190621T163219
UID:17248-1562183100-1562194800@www.vortexjazz.co.uk
SUMMARY:Vittorio Mura Quartet
DESCRIPTION:Vittorio Mura - Tenor Sax\nGijs Idema - Guitar \nNick Jurd - Bass\nJonathan Silk - Drums\n \n\nA graduate of the Royal Birmingham Conservatoire\, Vittorio is currently completing a Masters degree in Jazz Studies at the City College of New York.\n\nThis newly formed quartet is an amalgamation of his time in Birmingham and New York featuring long standing colleagues Nick Jurd and Jonathan Silk\, with NY based Dutch guitarist Gijs Idema completing the line-up. \n\nExpect original compositions drawing from a wide range of influences.\n\n \n\n “...without [a] doubt one of the finest musicians to be riding the crest of the new wave of improvisers coming out of Birmingham. Definitely one to watch....” – Percy Pursglove
URL:https://www.vortexjazz.co.uk/event/vittorio-mura-quartet/
LOCATION:11 Gillett Square\, London\, N16 8AZ
GEO:51.5487082;-0.0764992
X-APPLE-STRUCTURED-LOCATION;VALUE=URI;X-ADDRESS=11 Gillett Square London N16 8AZ;X-APPLE-RADIUS=500;X-TITLE=11 Gillett Square:geo:-0.0764992,51.5487082
ATTACH;FMTTYPE=image/jpeg:https://www.vortexjazz.co.uk/wp-content/uploads/2019/06/IMG_0781.jpg
END:VEVENT
END:VCALENDAR