BEGIN:VCALENDAR
VERSION:2.0
PRODID:-//Vortex Jazz Club - ECPv4.1.3//NONSGML v1.0//EN
CALSCALE:GREGORIAN
METHOD:PUBLISH
X-WR-CALNAME:Vortex Jazz Club
X-ORIGINAL-URL:https://www.vortexjazz.co.uk
X-WR-CALDESC:Events for Vortex Jazz Club
BEGIN:VEVENT
DTSTART;TZID=UTC+0:20190709T194500
DTEND;TZID=UTC+0:20190709T230000
DTSTAMP:20260421T141945
CREATED:20190612T153943
LAST-MODIFIED:20190621T171144
UID:17261-1562701500-1562713200@www.vortexjazz.co.uk
SUMMARY:Ruaridh Pattison Quartet ft. Will Glaser\, Rick Simpson & Mark Lewandowski
DESCRIPTION:Line Up -\n\nRuaridh Pattison - Saxophone\n\nMark Lewandowski - Double Bass\n\nRick Simpson - Piano\n\nWill Glaser - Drums\n\n \n\nNYC-based Scot Ruaridh Pattison is back for a visit and we're pleased to be hosting his fiery saxophone playing alongside three firm London favourites\, Rick Simpson\, Mark Lewandowski and Will Glaser.\n\n 
URL:https://www.vortexjazz.co.uk/event/ruaridh-pattison-quartet-ft-will-glaser-rick-simpson-mark-lewandowski/
LOCATION:11 Gillett Square\, London\, N16 8AZ
GEO:51.5487082;-0.0764992
X-APPLE-STRUCTURED-LOCATION;VALUE=URI;X-ADDRESS=11 Gillett Square London N16 8AZ;X-APPLE-RADIUS=500;X-TITLE=11 Gillett Square:geo:-0.0764992,51.5487082
ATTACH;FMTTYPE=image/jpeg:https://www.vortexjazz.co.uk/wp-content/uploads/2019/06/pic2.jpg
END:VEVENT
END:VCALENDAR