BEGIN:VCALENDAR
VERSION:2.0
PRODID:-//Vortex Jazz Club - ECPv4.1.3//NONSGML v1.0//EN
CALSCALE:GREGORIAN
METHOD:PUBLISH
X-WR-CALNAME:Vortex Jazz Club
X-ORIGINAL-URL:https://www.vortexjazz.co.uk
X-WR-CALDESC:Events for Vortex Jazz Club
BEGIN:VEVENT
DTSTART;TZID=UTC+0:20190711T194500
DTEND;TZID=UTC+0:20190711T230000
DTSTAMP:20260421T130457
CREATED:20190522T110144
LAST-MODIFIED:20190711T131904
UID:17140-1562874300-1562886000@www.vortexjazz.co.uk
SUMMARY:Laura Jurd with Ruth Goller and Corrie Dick
DESCRIPTION:Laura Jurd  - Trumpet\nRuth Goller - Bass\nCorrie Dick - Drums\n \nUK trumpet player Laura Jurd has carved a reputation as one of the most characterful voices in European jazz today. Her distinctive approach to improvisation is often simple yet always colourful\, resulting in a sound that is instantly inviting and recognisable. With her group Dinosaur\, she was nominated for the Mercury Music Prize. Here she is joined by kindred spirits Ruth Goller (Melt Yourself Down\, Vula Viel) on bass and longtime collaborator and Dinosaur bandmate Corrie Dick (Elliot Galvin\, Rob Luft) on drums as they present selected songs from across the centuries. From John Dowland to Bill Withers\, the trio breathe new life into some of Laura’s favourite melodies.’\n\n\n\n\n[embed]https://youtu.be/Tisw5Nb66DU[/embed]\n\n\n\n\n
URL:https://www.vortexjazz.co.uk/event/17140/
LOCATION:11 Gillett Square\, London\, N16 8AZ
GEO:51.5487082;-0.0764992
X-APPLE-STRUCTURED-LOCATION;VALUE=URI;X-ADDRESS=11 Gillett Square London N16 8AZ;X-APPLE-RADIUS=500;X-TITLE=11 Gillett Square:geo:-0.0764992,51.5487082
ATTACH;FMTTYPE=image/jpeg:https://www.vortexjazz.co.uk/wp-content/uploads/2019/05/59301728_355836098400421_7450681752093196288_n.jpg
END:VEVENT
END:VCALENDAR