BEGIN:VCALENDAR
VERSION:2.0
PRODID:-//Vortex Jazz Club - ECPv4.1.3//NONSGML v1.0//EN
CALSCALE:GREGORIAN
METHOD:PUBLISH
X-WR-CALNAME:Vortex Jazz Club
X-ORIGINAL-URL:https://www.vortexjazz.co.uk
X-WR-CALDESC:Events for Vortex Jazz Club
BEGIN:VEVENT
DTSTART;TZID=UTC+0:20190714T140000
DTEND;TZID=UTC+0:20190714T200000
DTSTAMP:20260421T131031
CREATED:20190711T150807
LAST-MODIFIED:20190711T150807
UID:17422-1563112800-1563134400@www.vortexjazz.co.uk
SUMMARY:OPEN DECKS
DESCRIPTION:Open Decks at the Vortex Downstairs\, an opportunity for vinyl lovers to play\, talk and share music!
URL:https://www.vortexjazz.co.uk/event/open-decks-5/
LOCATION:11 Gillett Square\, London\, N16 8AZ
GEO:51.5487082;-0.0764992
X-APPLE-STRUCTURED-LOCATION;VALUE=URI;X-ADDRESS=11 Gillett Square London N16 8AZ;X-APPLE-RADIUS=500;X-TITLE=11 Gillett Square:geo:-0.0764992,51.5487082
ATTACH;FMTTYPE=image/jpeg:https://www.vortexjazz.co.uk/wp-content/uploads/2019/07/image1.jpeg
END:VEVENT
BEGIN:VEVENT
DTSTART;TZID=UTC+0:20190714T193000
DTEND;TZID=UTC+0:20190714T223000
DTSTAMP:20260421T131031
CREATED:20190710T104112
LAST-MODIFIED:20190710T105842
UID:17419-1563132600-1563143400@www.vortexjazz.co.uk
SUMMARY:Rick Simpson Trio
DESCRIPTION:A Sunday evening of Jazz standards led by award-winning pianist and composer Rick Simpson.\n\nThe band is completed by some of the young London Jazz scene’s most sought-after rising stars.\n\nLine-up:\n\nRick Simpson - piano\n\nTom Farmer - double bass\n\nJon Scott - drums\n\n 
URL:https://www.vortexjazz.co.uk/event/rick-simpson-trio/
LOCATION:11 Gillett Square\, London\, N16 8AZ
GEO:51.5487082;-0.0764992
X-APPLE-STRUCTURED-LOCATION;VALUE=URI;X-ADDRESS=11 Gillett Square London N16 8AZ;X-APPLE-RADIUS=500;X-TITLE=11 Gillett Square:geo:-0.0764992,51.5487082
ATTACH;FMTTYPE=image/jpeg:https://www.vortexjazz.co.uk/wp-content/uploads/2018/08/Rick-Simpson.jpg
END:VEVENT
END:VCALENDAR