BEGIN:VCALENDAR
VERSION:2.0
PRODID:-//Vortex Jazz Club - ECPv4.1.3//NONSGML v1.0//EN
CALSCALE:GREGORIAN
METHOD:PUBLISH
X-WR-CALNAME:Vortex Jazz Club
X-ORIGINAL-URL:https://www.vortexjazz.co.uk
X-WR-CALDESC:Events for Vortex Jazz Club
BEGIN:VEVENT
DTSTART;TZID=UTC+0:20190720T194500
DTEND;TZID=UTC+0:20190720T230000
DTSTAMP:20260421T130247
CREATED:20190607T125451
LAST-MODIFIED:20190620T115206
UID:17195-1563651900-1563663600@www.vortexjazz.co.uk
SUMMARY:Espen Eriksen Trio with Andy Sheppard
DESCRIPTION:Espen Eriksen – piano and compositions\nLars Tormod Jenset – double bass\nAndreas Bye – drums\nAndy Sheppard – tenor saxophone\n \n\n–Masters of melody from Norway with British jazz star\n\n \n\nAfter six full houses in England last autumn\, culminating in two gigs at London Jazz Festival 2019 broadcasted by BBC Radio 3’s ”Jazz Now”\, Espen Eriksen Trio with Andy Sheppard are finally back in town. \n\n \n\nEspen Eriksen Trio was formed in 2007 and have released four records. The trio’s music relies on highly melodic and lyrical instrumentals and a “less is more” approach and is often credited for its unique voice within today’s jazz scene by the international press. To quote BBC “A wonderfully plaintive jazz record\, abandoned to the lost art of melodic minimalism\, stripped back and beautifully near bare. No smoke and mirrors\, just the graceful chemistry of superb musicians at the top of their game”\n\n \n\nWith a career spanning over four decades\, working together with the likes of George\n\nRussell\, Gil Evans and Carla Bley\, Andy Sheppard is truly one of Europe’s leading saxophonists. He’s also one of the few players in the world that can juggle a European lyrical sensibility with hardcore American post-bop jazz chops – and also knows how to portion it out.\n\n \n\nTheir collaboration started in 2016 and has resulted in last year’s critically acclaimed record “Perfectly Unhappy” and extensive touring in Europe and Asia.  Together they’ve created a new common idiom\, which will speak to followers of Eriksen’s and Sheppard’s work alike. Their fresh approach to the music will both please and surprise the listener\, as it weaves its path through enchanting melodies and lyrical improvisation\, sitting perfectly within Eriksen’s and Sheppard’s long-lasting tradition. \n\n \n\n“The symbiosis between the saxophonist and the trio is truly remarkable.” \n\n- All About Jazz\n\n \n\n”This music is simply too beautiful\, so one needs to hear and feel it to understand. It's the way it touches and comforts your mind\, more than simply what it sounds like.” \n\n- Hi Fi Critic \n\n 
URL:https://www.vortexjazz.co.uk/event/espen-eriksen-trio-with-andy-sheppard/
LOCATION:11 Gillett Square\, London\, N16 8AZ
GEO:51.5487082;-0.0764992
X-APPLE-STRUCTURED-LOCATION;VALUE=URI;X-ADDRESS=11 Gillett Square London N16 8AZ;X-APPLE-RADIUS=500;X-TITLE=11 Gillett Square:geo:-0.0764992,51.5487082
ATTACH;FMTTYPE=image/jpeg:https://www.vortexjazz.co.uk/wp-content/uploads/2019/06/1903.03-Espen-Eriksen-Trio-and-Andy-Sheppard-688x515.jpg
END:VEVENT
END:VCALENDAR